{"text_format":"1","workbook":"xlsx","n_sheets":8,"sheets":["入力方法","中学校名","氏名・生年月日・入卒","評定","欠席・遅刻・早退","健康・特活・所見","調査書印刷","受験学科・専願"],"not_rendered":{"charts":0,"images":0,"macros":1,"external_links":2,"defined_names":1,"comments":0,"pivot_tables":0},"unopened":[],"bounds":{"document_bytes":16777216,"sheet_cells":100000,"rows_first":2000,"rows_last":500,"rows_between":2000,"halvings":0,"cell_chars":16384,"cell_head_chars":4096},"cells_cut":0,"cells_raw":0,"read":"whole","date_system":"1900"}

{"sheet":"入力方法","index":0,"n_rows":65,"n_cols":5,"rows_kept":65,"cut":false,"hidden":false,"merged":[[40,2,40,3],[37,2,37,3],[57,2,57,3]]}
[]
[null,"(尚志館高校)調査書入力方法について"]
[]
[null,null,"次の８つのシートがあります。"]
[null,null,"１．","入力方法"]
[null,null,"２．","中学校名"]
[null,null,"３．","氏名・生年月日・入卒"]
[null,null,"４．","評定"]
[null,null,"５．","欠席・遅刻・早退"]
[null,null,"６．","健康・特活・所見"]
[null,null,"７．","調査書印刷"]
[null,null,"８．","受験学科・専願"]
[null,null,"上の２～６のシートに順番通り入力し、７のシートで印刷となります。"]
[null,null,"８のシートは受験者名簿の作成に必要です。"]
[]
[null,null,"中学校名","シート"]
[null,null,"・","提出年月日を赤の枠に（入力例）のように半角数字で入力してください。"]
[null,null,"・","中学校名(義務教育学校名）を赤の枠に入力してください。"]
[null,null,"・","校長名を赤の枠に入力してください。"]
[]
[null,null,"氏名・生年月日・入卒",null,"シート"]
[null,null,null,"文字または数字は白色の部分に入力してください。"]
[null,null,null,"水色の部分は入力できないように保護されています。"]
[null,null,"・","組・番・生徒名・ふりがなを入力してください。"]
[null,null,"・","生年欄は　例えば「平成１５年」生まれは１５と入力してください。"]
[null,null,"・","生月・生日欄は半角で入力してください。"]
[null,null,"・","性別　男子は１を女子は2を入力してください。"]
[null,null,"・","入学年・入学校・卒業年・月・卒業校は（例）のように入力してください。"]
[null,null,"・","記載責任者は（例）のように入力してください。"]
[null,null,"・","転入学者・過年度卒業者は（例）のように入力してください。"]
[]
[null,null,"評定","シート"]
[null,null,null,"評定は白色の部分に入力してください。"]
[null,null,null,"水色の部分は入力できないように保護されています。"]
[null,null,"・","直接入力されるか、または、他からのデータを貼り付けてください。"]
[null,null,"・","選択教科につていの入力は不要です。"]
[]
[null,null,"欠席・遅刻・早退",null,"シート"]
[null,null,"・","日数・回数・理由（３０字以内）を入力してください。"]
[]
[null,null,"健康・特活・所見",null,"シート"]
[null,null,"・","健康状態は１２０字以内で入力してください。"]
[null,null,"・","特別活動等の記録は２００字以内で入力してください。"]
[null,null,"・","担任所見および指導上の参考事項は２００字以内で入力してください。"]
[]
[null,null,"調査書印刷","シート"]
[null,null,null,"１枚印刷の場合"]
[null,null,"・","セルCM4に印刷したい生徒の番号（氏名・生年月日・入卒シートのＡ列"]
[null,null,null,"の番号）を入力してください。"]
[null,null,"・","Ａ４版の印刷用紙をセットしてください。"]
[null,null,"・","印刷を実行してください。（プリンタの機種によっては、ずれもあります。）"]
[null,null,null,"複数枚印刷の場合"]
[null,null,"・","セルCM26とセルCX26に印刷したい生徒の番号（氏名・生年月日・入卒シートのＡ列"]
[null,null,null,"の番号）を入力してください。"]
[null,null,"・","Ａ４版の印刷用紙をセットしてください。"]
[null,null,"・","印刷を実行してください。（プリンタの機種によっては、ずれもあります。）"]
[]
[null,null,"受験学科・専願",null,"シート"]
[null,null,"・","受験学科（第一志望と第二志望）をプルダウンリストから選択してください。"]
[null,null,"・","専願・第２志望でも専願の場合、プルダウンリストから選択してください。"]
[null,null,null,"※専願受験は、学科によって扱いが違いますので、"]
[null,null,null,"　 詳しくは別紙の\"出願の手引き\"をご覧ください。"]
[null,null,"・","シート上のデータは別ブック「namelist.xls」に反映されます。"]
[null,null,null,"namelistの前に貴校名を入力し、出願手続きまでに下記アドレスに送信してください。"]
[null,null,null,null,"zim-ksh@ac.auone-net.jp"]

{"sheet":"中学校名","index":1,"n_rows":15,"n_cols":6,"rows_kept":15,"cut":false,"hidden":false,"merged":[[9,3,9,5],[13,3,13,5]]}
[]
[null,"調査書作成"]
[]
[]
[null,null,null,"平成　　年","月","日"]
[null,null,"提出年月日"]
[null,null,"（入力例）",31,1,23]
[]
[]
[null,null,"中学校名"]
[null,null,"（入力例）","○○町立○○中学校"]
[]
[]
[null,null,"校長名"]
[null,null,"（入力例）","山　田　太　郎"]

{"sheet":"氏名・生年月日・入卒","index":2,"n_rows":105,"n_cols":28,"rows_kept":105,"cut":false,"hidden":false,"merged":[[2,11,2,12],[2,14,2,16],[2,20,2,23],[2,25,2,27],[2,18,3,18]]}
[null,null,null,"調査書作成"]
[null,null,null,null,null,null,null,null,1,"男"]
[null,null,null,null,null,null,null,null,2,"女",null,"入学",null,null,"卒業",null,null,null,"記載責任者",null,"転入学者",null,null,null,null,"過年度卒業者"]
["NO","組","番","生徒名","ふりがな","生年","生月","生日","性別","男",null,"入年","入学校",null,"卒年","卒月","卒学校",null,null,null,"転入学年","転入学月","中学校名","転入学の理由",null,"卒業年","卒業月","中学校"]
["（例）",3,2,"私　学　協　子","しがく　きょうこ",15,4,8,2,{"$f":"IF(I5=\"\",\"\",VLOOKUP(I5,$I$2:$J$3,2))","v":"女"},null,28,"鹿児島第八",null,31,3,"鹿児島第八",null,"鈴　木　一　郎",null,29,7,"東京都立第八","一家転住のため",null,30,3,"第五"]
[1,null,null,null,null,null,null,null,null,{"$f":"IF(I6=\"\",\"\",VLOOKUP(I6,$I$2:$J$3,2))","v":""}]
[2,null,null,null,null,null,null,null,null,""]
[3,null,null,null,null,null,null,null,null,""]
[4,null,null,null,null,null,null,null,null,""]
[5,null,null,null,null,null,null,null,null,""]
[6,null,null,null,null,null,null,null,null,""]
[7,null,null,null,null,null,null,null,null,""]
[8,null,null,null,null,null,null,null,null,""]
[9,null,null,null,null,null,null,null,null,""]
[10,null,null,null,null,null,null,null,null,""]
[11,null,null,null,null,null,null,null,null,""]
[12,null,null,null,null,null,null,null,null,""]
[13,null,null,null,null,null,null,null,null,""]
[14,null,null,null,null,null,null,null,null,""]
[15,null,null,null,null,null,null,null,null,""]
[16,null,null,null,null,null,null,null,null,""]
[17,null,null,null,null,null,null,null,null,""]
[18,null,null,null,null,null,null,null,null,""]
[19,null,null,null,null,null,null,null,null,""]
[20,null,null,null,null,null,null,null,null,""]
[21,null,null,null,null,null,null,null,null,""]
[22,null,null,null,null,null,null,null,null,""]
[23,null,null,null,null,null,null,null,null,""]
[24,null,null,null,null,null,null,null,null,""]
[25,null,null,null,null,null,null,null,null,""]
[26,null,null,null,null,null,null,null,null,""]
[27,null,null,null,null,null,null,null,null,""]
[28,null,null,null,null,null,null,null,null,""]
[29,null,null,null,null,null,null,null,null,""]
[30,null,null,null,null,null,null,null,null,""]
[31,null,null,null,null,null,null,null,null,""]
[32,null,null,null,null,null,null,null,null,""]
[33,null,null,null,null,null,null,null,null,""]
[34,null,null,null,null,null,null,null,null,""]
[35,null,null,null,null,null,null,null,null,""]
[36,null,null,null,null,null,null,null,null,""]
[37,null,null,null,null,null,null,null,null,""]
[38,null,null,null,null,null,null,null,null,""]
[39,null,null,null,null,null,null,null,null,""]
[40,null,null,null,null,null,null,null,null,""]
[41,null,null,null,null,null,null,null,null,""]
[42,null,null,null,null,null,null,null,null,""]
[43,null,null,null,null,null,null,null,null,""]
[44,null,null,null,null,null,null,null,null,""]
[45,null,null,null,null,null,null,null,null,""]
[46,null,null,null,null,null,null,null,null,""]
[47,null,null,null,null,null,null,null,null,""]
[48,null,null,null,null,null,null,null,null,""]
[49,null,null,null,null,null,null,null,null,""]
[50,null,null,null,null,null,null,null,null,""]
[51,null,null,null,null,null,null,null,null,""]
[52,null,null,null,null,null,null,null,null,""]
[53,null,null,null,null,null,null,null,null,""]
[54,null,null,null,null,null,null,null,null,""]
[55,null,null,null,null,null,null,null,null,""]
[56,null,null,null,null,null,null,null,null,""]
[57,null,null,null,null,null,null,null,null,""]
[58,null,null,null,null,null,null,null,null,""]
[59,null,null,null,null,null,null,null,null,""]
[60,null,null,null,null,null,null,null,null,""]
[61,null,null,null,null,null,null,null,null,""]
[62,null,null,null,null,null,null,null,null,""]
[63,null,null,null,null,null,null,null,null,""]
[64,null,null,null,null,null,null,null,null,""]
[65,null,null,null,null,null,null,null,null,""]
[66,null,null,null,null,null,null,null,null,{"$f":"IF(I71=\"\",\"\",VLOOKUP(I71,$I$2:$J$3,2))","v":""}]
[67,null,null,null,null,null,null,null,null,""]
[68,null,null,null,null,null,null,null,null,""]
[69,null,null,null,null,null,null,null,null,""]
[70,null,null,null,null,null,null,null,null,""]
[71,null,null,null,null,null,null,null,null,""]
[72,null,null,null,null,null,null,null,null,""]
[73,null,null,null,null,null,null,null,null,""]
[74,null,null,null,null,null,null,null,null,""]
[75,null,null,null,null,null,null,null,null,""]
[76,null,null,null,null,null,null,null,null,""]
[77,null,null,null,null,null,null,null,null,""]
[78,null,null,null,null,null,null,null,null,""]
[79,null,null,null,null,null,null,null,null,""]
[80,null,null,null,null,null,null,null,null,""]
[81,null,null,null,null,null,null,null,null,""]
[82,null,null,null,null,null,null,null,null,""]
[83,null,null,null,null,null,null,null,null,""]
[84,null,null,null,null,null,null,null,null,""]
[85,null,null,null,null,null,null,null,null,""]
[86,null,null,null,null,null,null,null,null,""]
[87,null,null,null,null,null,null,null,null,""]
[88,null,null,null,null,null,null,null,null,""]
[89,null,null,null,null,null,null,null,null,""]
[90,null,null,null,null,null,null,null,null,""]
[91,null,null,null,null,null,null,null,null,""]
[92,null,null,null,null,null,null,null,null,""]
[93,null,null,null,null,null,null,null,null,""]
[94,null,null,null,null,null,null,null,null,""]
[95,null,null,null,null,null,null,null,null,""]
[96,null,null,null,null,null,null,null,null,""]
[97,null,null,null,null,null,null,null,null,""]
[98,null,null,null,null,null,null,null,null,""]
[99,null,null,null,null,null,null,null,null,""]
[100,null,null,null,null,null,null,null,null,""]

{"sheet":"評定","index":3,"n_rows":103,"n_cols":31,"rows_kept":103,"cut":false,"hidden":false,"merged":[[0,22,0,30],[0,0,1,0],[0,1,1,1],[0,2,1,2],[0,3,1,3],[0,4,0,12],[0,13,0,21]]}
["NO","組","番","生徒名","１学年評定",null,null,null,null,null,null,null,null,"２学年評定",null,null,null,null,null,null,null,null,"３学年評定"]
[null,null,null,null,"国","社","数","理","音","美","体","家","英","国","社","数","理","音","美","体","家","英","国","社","数","理","音","美","体","家","英"]
["（例）",3,2,"私　学　協　子",4,5,3,4,4,4,4,4,5,3,4,4,4,4,4,5,5,3,4,4,4,3,4,4,5,4,4]
[1,{"$f":"氏名・生年月日・入卒!B6","v":0},{"$f":"氏名・生年月日・入卒!C6","v":0},{"$f":"氏名・生年月日・入卒!D6","v":0}]
[2,{"$f":"氏名・生年月日・入卒!B7","v":0},{"$f":"氏名・生年月日・入卒!C7","v":0},{"$f":"氏名・生年月日・入卒!D7","v":0}]
[3,{"$f":"氏名・生年月日・入卒!B8","v":0},{"$f":"氏名・生年月日・入卒!C8","v":0},{"$f":"氏名・生年月日・入卒!D8","v":0}]
[4,{"$f":"氏名・生年月日・入卒!B9","v":0},{"$f":"氏名・生年月日・入卒!C9","v":0},{"$f":"氏名・生年月日・入卒!D9","v":0}]
[5,{"$f":"氏名・生年月日・入卒!B10","v":0},{"$f":"氏名・生年月日・入卒!C10","v":0},{"$f":"氏名・生年月日・入卒!D10","v":0}]
[6,{"$f":"氏名・生年月日・入卒!B11","v":0},{"$f":"氏名・生年月日・入卒!C11","v":0},{"$f":"氏名・生年月日・入卒!D11","v":0}]
[7,{"$f":"氏名・生年月日・入卒!B12","v":0},{"$f":"氏名・生年月日・入卒!C12","v":0},{"$f":"氏名・生年月日・入卒!D12","v":0}]
[8,{"$f":"氏名・生年月日・入卒!B13","v":0},{"$f":"氏名・生年月日・入卒!C13","v":0},{"$f":"氏名・生年月日・入卒!D13","v":0}]
[9,{"$f":"氏名・生年月日・入卒!B14","v":0},{"$f":"氏名・生年月日・入卒!C14","v":0},{"$f":"氏名・生年月日・入卒!D14","v":0}]
[10,{"$f":"氏名・生年月日・入卒!B15","v":0},{"$f":"氏名・生年月日・入卒!C15","v":0},{"$f":"氏名・生年月日・入卒!D15","v":0}]
[11,{"$f":"氏名・生年月日・入卒!B16","v":0},{"$f":"氏名・生年月日・入卒!C16","v":0},{"$f":"氏名・生年月日・入卒!D16","v":0}]
[12,{"$f":"氏名・生年月日・入卒!B17","v":0},{"$f":"氏名・生年月日・入卒!C17","v":0},{"$f":"氏名・生年月日・入卒!D17","v":0}]
[13,{"$f":"氏名・生年月日・入卒!B18","v":0},{"$f":"氏名・生年月日・入卒!C18","v":0},{"$f":"氏名・生年月日・入卒!D18","v":0}]
[14,{"$f":"氏名・生年月日・入卒!B19","v":0},{"$f":"氏名・生年月日・入卒!C19","v":0},{"$f":"氏名・生年月日・入卒!D19","v":0}]
[15,{"$f":"氏名・生年月日・入卒!B20","v":0},{"$f":"氏名・生年月日・入卒!C20","v":0},{"$f":"氏名・生年月日・入卒!D20","v":0}]
[16,{"$f":"氏名・生年月日・入卒!B21","v":0},{"$f":"氏名・生年月日・入卒!C21","v":0},{"$f":"氏名・生年月日・入卒!D21","v":0}]
[17,{"$f":"氏名・生年月日・入卒!B22","v":0},{"$f":"氏名・生年月日・入卒!C22","v":0},{"$f":"氏名・生年月日・入卒!D22","v":0}]
[18,{"$f":"氏名・生年月日・入卒!B23","v":0},{"$f":"氏名・生年月日・入卒!C23","v":0},{"$f":"氏名・生年月日・入卒!D23","v":0}]
[19,{"$f":"氏名・生年月日・入卒!B24","v":0},{"$f":"氏名・生年月日・入卒!C24","v":0},{"$f":"氏名・生年月日・入卒!D24","v":0}]
[20,{"$f":"氏名・生年月日・入卒!B25","v":0},{"$f":"氏名・生年月日・入卒!C25","v":0},{"$f":"氏名・生年月日・入卒!D25","v":0}]
[21,{"$f":"氏名・生年月日・入卒!B26","v":0},{"$f":"氏名・生年月日・入卒!C26","v":0},{"$f":"氏名・生年月日・入卒!D26","v":0}]
[22,{"$f":"氏名・生年月日・入卒!B27","v":0},{"$f":"氏名・生年月日・入卒!C27","v":0},{"$f":"氏名・生年月日・入卒!D27","v":0}]
[23,{"$f":"氏名・生年月日・入卒!B28","v":0},{"$f":"氏名・生年月日・入卒!C28","v":0},{"$f":"氏名・生年月日・入卒!D28","v":0}]
[24,{"$f":"氏名・生年月日・入卒!B29","v":0},{"$f":"氏名・生年月日・入卒!C29","v":0},{"$f":"氏名・生年月日・入卒!D29","v":0}]
[25,{"$f":"氏名・生年月日・入卒!B30","v":0},{"$f":"氏名・生年月日・入卒!C30","v":0},{"$f":"氏名・生年月日・入卒!D30","v":0}]
[26,{"$f":"氏名・生年月日・入卒!B31","v":0},{"$f":"氏名・生年月日・入卒!C31","v":0},{"$f":"氏名・生年月日・入卒!D31","v":0}]
[27,{"$f":"氏名・生年月日・入卒!B32","v":0},{"$f":"氏名・生年月日・入卒!C32","v":0},{"$f":"氏名・生年月日・入卒!D32","v":0}]
[28,{"$f":"氏名・生年月日・入卒!B33","v":0},{"$f":"氏名・生年月日・入卒!C33","v":0},{"$f":"氏名・生年月日・入卒!D33","v":0}]
[29,{"$f":"氏名・生年月日・入卒!B34","v":0},{"$f":"氏名・生年月日・入卒!C34","v":0},{"$f":"氏名・生年月日・入卒!D34","v":0}]
[30,{"$f":"氏名・生年月日・入卒!B35","v":0},{"$f":"氏名・生年月日・入卒!C35","v":0},{"$f":"氏名・生年月日・入卒!D35","v":0}]
[31,{"$f":"氏名・生年月日・入卒!B36","v":0},{"$f":"氏名・生年月日・入卒!C36","v":0},{"$f":"氏名・生年月日・入卒!D36","v":0}]
[32,{"$f":"氏名・生年月日・入卒!B37","v":0},{"$f":"氏名・生年月日・入卒!C37","v":0},{"$f":"氏名・生年月日・入卒!D37","v":0}]
[33,{"$f":"氏名・生年月日・入卒!B38","v":0},{"$f":"氏名・生年月日・入卒!C38","v":0},{"$f":"氏名・生年月日・入卒!D38","v":0}]
[34,{"$f":"氏名・生年月日・入卒!B39","v":0},{"$f":"氏名・生年月日・入卒!C39","v":0},{"$f":"氏名・生年月日・入卒!D39","v":0}]
[35,{"$f":"氏名・生年月日・入卒!B40","v":0},{"$f":"氏名・生年月日・入卒!C40","v":0},{"$f":"氏名・生年月日・入卒!D40","v":0}]
[36,{"$f":"氏名・生年月日・入卒!B41","v":0},{"$f":"氏名・生年月日・入卒!C41","v":0},{"$f":"氏名・生年月日・入卒!D41","v":0}]
[37,{"$f":"氏名・生年月日・入卒!B42","v":0},{"$f":"氏名・生年月日・入卒!C42","v":0},{"$f":"氏名・生年月日・入卒!D42","v":0}]
[38,{"$f":"氏名・生年月日・入卒!B43","v":0},{"$f":"氏名・生年月日・入卒!C43","v":0},{"$f":"氏名・生年月日・入卒!D43","v":0}]
[39,{"$f":"氏名・生年月日・入卒!B44","v":0},{"$f":"氏名・生年月日・入卒!C44","v":0},{"$f":"氏名・生年月日・入卒!D44","v":0}]
[40,{"$f":"氏名・生年月日・入卒!B45","v":0},{"$f":"氏名・生年月日・入卒!C45","v":0},{"$f":"氏名・生年月日・入卒!D45","v":0}]
[41,{"$f":"氏名・生年月日・入卒!B46","v":0},{"$f":"氏名・生年月日・入卒!C46","v":0},{"$f":"氏名・生年月日・入卒!D46","v":0}]
[42,{"$f":"氏名・生年月日・入卒!B47","v":0},{"$f":"氏名・生年月日・入卒!C47","v":0},{"$f":"氏名・生年月日・入卒!D47","v":0}]
[43,{"$f":"氏名・生年月日・入卒!B48","v":0},{"$f":"氏名・生年月日・入卒!C48","v":0},{"$f":"氏名・生年月日・入卒!D48","v":0}]
[44,{"$f":"氏名・生年月日・入卒!B49","v":0},{"$f":"氏名・生年月日・入卒!C49","v":0},{"$f":"氏名・生年月日・入卒!D49","v":0}]
[45,{"$f":"氏名・生年月日・入卒!B50","v":0},{"$f":"氏名・生年月日・入卒!C50","v":0},{"$f":"氏名・生年月日・入卒!D50","v":0}]
[46,{"$f":"氏名・生年月日・入卒!B51","v":0},{"$f":"氏名・生年月日・入卒!C51","v":0},{"$f":"氏名・生年月日・入卒!D51","v":0}]
[47,{"$f":"氏名・生年月日・入卒!B52","v":0},{"$f":"氏名・生年月日・入卒!C52","v":0},{"$f":"氏名・生年月日・入卒!D52","v":0}]
[48,{"$f":"氏名・生年月日・入卒!B53","v":0},{"$f":"氏名・生年月日・入卒!C53","v":0},{"$f":"氏名・生年月日・入卒!D53","v":0}]
[49,{"$f":"氏名・生年月日・入卒!B54","v":0},{"$f":"氏名・生年月日・入卒!C54","v":0},{"$f":"氏名・生年月日・入卒!D54","v":0}]
[50,{"$f":"氏名・生年月日・入卒!B55","v":0},{"$f":"氏名・生年月日・入卒!C55","v":0},{"$f":"氏名・生年月日・入卒!D55","v":0}]
[51,{"$f":"氏名・生年月日・入卒!B56","v":0},{"$f":"氏名・生年月日・入卒!C56","v":0},{"$f":"氏名・生年月日・入卒!D56","v":0}]
[52,{"$f":"氏名・生年月日・入卒!B57","v":0},{"$f":"氏名・生年月日・入卒!C57","v":0},{"$f":"氏名・生年月日・入卒!D57","v":0}]
[53,{"$f":"氏名・生年月日・入卒!B58","v":0},{"$f":"氏名・生年月日・入卒!C58","v":0},{"$f":"氏名・生年月日・入卒!D58","v":0}]
[54,{"$f":"氏名・生年月日・入卒!B59","v":0},{"$f":"氏名・生年月日・入卒!C59","v":0},{"$f":"氏名・生年月日・入卒!D59","v":0}]
[55,{"$f":"氏名・生年月日・入卒!B60","v":0},{"$f":"氏名・生年月日・入卒!C60","v":0},{"$f":"氏名・生年月日・入卒!D60","v":0}]
[56,{"$f":"氏名・生年月日・入卒!B61","v":0},{"$f":"氏名・生年月日・入卒!C61","v":0},{"$f":"氏名・生年月日・入卒!D61","v":0}]
[57,{"$f":"氏名・生年月日・入卒!B62","v":0},{"$f":"氏名・生年月日・入卒!C62","v":0},{"$f":"氏名・生年月日・入卒!D62","v":0}]
[58,{"$f":"氏名・生年月日・入卒!B63","v":0},{"$f":"氏名・生年月日・入卒!C63","v":0},{"$f":"氏名・生年月日・入卒!D63","v":0}]
[59,{"$f":"氏名・生年月日・入卒!B64","v":0},{"$f":"氏名・生年月日・入卒!C64","v":0},{"$f":"氏名・生年月日・入卒!D64","v":0}]
[60,{"$f":"氏名・生年月日・入卒!B65","v":0},{"$f":"氏名・生年月日・入卒!C65","v":0},{"$f":"氏名・生年月日・入卒!D65","v":0}]
[61,{"$f":"氏名・生年月日・入卒!B66","v":0},{"$f":"氏名・生年月日・入卒!C66","v":0},{"$f":"氏名・生年月日・入卒!D66","v":0}]
[62,{"$f":"氏名・生年月日・入卒!B67","v":0},{"$f":"氏名・生年月日・入卒!C67","v":0},{"$f":"氏名・生年月日・入卒!D67","v":0}]
[63,{"$f":"氏名・生年月日・入卒!B68","v":0},{"$f":"氏名・生年月日・入卒!C68","v":0},{"$f":"氏名・生年月日・入卒!D68","v":0}]
[64,{"$f":"氏名・生年月日・入卒!B69","v":0},{"$f":"氏名・生年月日・入卒!C69","v":0},{"$f":"氏名・生年月日・入卒!D69","v":0}]
[65,{"$f":"氏名・生年月日・入卒!B70","v":0},{"$f":"氏名・生年月日・入卒!C70","v":0},{"$f":"氏名・生年月日・入卒!D70","v":0}]
[66,{"$f":"氏名・生年月日・入卒!B71","v":0},{"$f":"氏名・生年月日・入卒!C71","v":0},{"$f":"氏名・生年月日・入卒!D71","v":0}]
[67,{"$f":"氏名・生年月日・入卒!B72","v":0},{"$f":"氏名・生年月日・入卒!C72","v":0},{"$f":"氏名・生年月日・入卒!D72","v":0}]
[68,{"$f":"氏名・生年月日・入卒!B73","v":0},{"$f":"氏名・生年月日・入卒!C73","v":0},{"$f":"氏名・生年月日・入卒!D73","v":0}]
[69,{"$f":"氏名・生年月日・入卒!B74","v":0},{"$f":"氏名・生年月日・入卒!C74","v":0},{"$f":"氏名・生年月日・入卒!D74","v":0}]
[70,{"$f":"氏名・生年月日・入卒!B75","v":0},{"$f":"氏名・生年月日・入卒!C75","v":0},{"$f":"氏名・生年月日・入卒!D75","v":0}]
[71,{"$f":"氏名・生年月日・入卒!B76","v":0},{"$f":"氏名・生年月日・入卒!C76","v":0},{"$f":"氏名・生年月日・入卒!D76","v":0}]
[72,{"$f":"氏名・生年月日・入卒!B77","v":0},{"$f":"氏名・生年月日・入卒!C77","v":0},{"$f":"氏名・生年月日・入卒!D77","v":0}]
[73,{"$f":"氏名・生年月日・入卒!B78","v":0},{"$f":"氏名・生年月日・入卒!C78","v":0},{"$f":"氏名・生年月日・入卒!D78","v":0}]
[74,{"$f":"氏名・生年月日・入卒!B79","v":0},{"$f":"氏名・生年月日・入卒!C79","v":0},{"$f":"氏名・生年月日・入卒!D79","v":0}]
[75,{"$f":"氏名・生年月日・入卒!B80","v":0},{"$f":"氏名・生年月日・入卒!C80","v":0},{"$f":"氏名・生年月日・入卒!D80","v":0}]
[76,{"$f":"氏名・生年月日・入卒!B81","v":0},{"$f":"氏名・生年月日・入卒!C81","v":0},{"$f":"氏名・生年月日・入卒!D81","v":0}]
[77,{"$f":"氏名・生年月日・入卒!B82","v":0},{"$f":"氏名・生年月日・入卒!C82","v":0},{"$f":"氏名・生年月日・入卒!D82","v":0}]
[78,{"$f":"氏名・生年月日・入卒!B83","v":0},{"$f":"氏名・生年月日・入卒!C83","v":0},{"$f":"氏名・生年月日・入卒!D83","v":0}]
[79,{"$f":"氏名・生年月日・入卒!B84","v":0},{"$f":"氏名・生年月日・入卒!C84","v":0},{"$f":"氏名・生年月日・入卒!D84","v":0}]
[80,{"$f":"氏名・生年月日・入卒!B85","v":0},{"$f":"氏名・生年月日・入卒!C85","v":0},{"$f":"氏名・生年月日・入卒!D85","v":0}]
[81,{"$f":"氏名・生年月日・入卒!B86","v":0},{"$f":"氏名・生年月日・入卒!C86","v":0},{"$f":"氏名・生年月日・入卒!D86","v":0}]
[82,{"$f":"氏名・生年月日・入卒!B87","v":0},{"$f":"氏名・生年月日・入卒!C87","v":0},{"$f":"氏名・生年月日・入卒!D87","v":0}]
[83,{"$f":"氏名・生年月日・入卒!B88","v":0},{"$f":"氏名・生年月日・入卒!C88","v":0},{"$f":"氏名・生年月日・入卒!D88","v":0}]
[84,{"$f":"氏名・生年月日・入卒!B89","v":0},{"$f":"氏名・生年月日・入卒!C89","v":0},{"$f":"氏名・生年月日・入卒!D89","v":0}]
[85,{"$f":"氏名・生年月日・入卒!B90","v":0},{"$f":"氏名・生年月日・入卒!C90","v":0},{"$f":"氏名・生年月日・入卒!D90","v":0}]
[86,{"$f":"氏名・生年月日・入卒!B91","v":0},{"$f":"氏名・生年月日・入卒!C91","v":0},{"$f":"氏名・生年月日・入卒!D91","v":0}]
[87,{"$f":"氏名・生年月日・入卒!B92","v":0},{"$f":"氏名・生年月日・入卒!C92","v":0},{"$f":"氏名・生年月日・入卒!D92","v":0}]
[88,{"$f":"氏名・生年月日・入卒!B93","v":0},{"$f":"氏名・生年月日・入卒!C93","v":0},{"$f":"氏名・生年月日・入卒!D93","v":0}]
[89,{"$f":"氏名・生年月日・入卒!B94","v":0},{"$f":"氏名・生年月日・入卒!C94","v":0},{"$f":"氏名・生年月日・入卒!D94","v":0}]
[90,{"$f":"氏名・生年月日・入卒!B95","v":0},{"$f":"氏名・生年月日・入卒!C95","v":0},{"$f":"氏名・生年月日・入卒!D95","v":0}]
[91,{"$f":"氏名・生年月日・入卒!B96","v":0},{"$f":"氏名・生年月日・入卒!C96","v":0},{"$f":"氏名・生年月日・入卒!D96","v":0}]
[92,{"$f":"氏名・生年月日・入卒!B97","v":0},{"$f":"氏名・生年月日・入卒!C97","v":0},{"$f":"氏名・生年月日・入卒!D97","v":0}]
[93,{"$f":"氏名・生年月日・入卒!B98","v":0},{"$f":"氏名・生年月日・入卒!C98","v":0},{"$f":"氏名・生年月日・入卒!D98","v":0}]
[94,{"$f":"氏名・生年月日・入卒!B99","v":0},{"$f":"氏名・生年月日・入卒!C99","v":0},{"$f":"氏名・生年月日・入卒!D99","v":0}]
[95,{"$f":"氏名・生年月日・入卒!B100","v":0},{"$f":"氏名・生年月日・入卒!C100","v":0},{"$f":"氏名・生年月日・入卒!D100","v":0}]
[96,{"$f":"氏名・生年月日・入卒!B101","v":0},{"$f":"氏名・生年月日・入卒!C101","v":0},{"$f":"氏名・生年月日・入卒!D101","v":0}]
[97,{"$f":"氏名・生年月日・入卒!B102","v":0},{"$f":"氏名・生年月日・入卒!C102","v":0},{"$f":"氏名・生年月日・入卒!D102","v":0}]
[98,{"$f":"氏名・生年月日・入卒!B103","v":0},{"$f":"氏名・生年月日・入卒!C103","v":0},{"$f":"氏名・生年月日・入卒!D103","v":0}]
[99,{"$f":"氏名・生年月日・入卒!B104","v":0},{"$f":"氏名・生年月日・入卒!C104","v":0},{"$f":"氏名・生年月日・入卒!D104","v":0}]
[100,{"$f":"氏名・生年月日・入卒!B105","v":0},{"$f":"氏名・生年月日・入卒!C105","v":0},{"$f":"氏名・生年月日・入卒!D105","v":0}]

{"sheet":"欠席・遅刻・早退","index":4,"n_rows":102,"n_cols":16,"rows_kept":102,"cut":false,"hidden":false,"merged":[[0,8,0,11],[0,12,0,15],[0,0,1,0],[0,1,1,1],[0,2,1,2],[0,3,1,3],[0,4,0,7]]}
["NO","組","番","生徒名","１　学　年",null,null,null,"２　学　年",null,null,null,"３　学　年"]
[null,null,null,null,"欠席","遅刻","早退","欠席・遅刻・早退の主な理由","欠席","遅刻","早退","欠席・遅刻・早退の主な理由","欠席","遅刻","早退","欠席・遅刻・早退の主な理由"]
[1,{"$f":"氏名・生年月日・入卒!B6","v":0},{"$f":"氏名・生年月日・入卒!C6","v":0},{"$f":"氏名・生年月日・入卒!D6","v":0}]
[2,{"$f":"氏名・生年月日・入卒!B7","v":0},{"$f":"氏名・生年月日・入卒!C7","v":0},{"$f":"氏名・生年月日・入卒!D7","v":0}]
[3,{"$f":"氏名・生年月日・入卒!B8","v":0},{"$f":"氏名・生年月日・入卒!C8","v":0},{"$f":"氏名・生年月日・入卒!D8","v":0}]
[4,{"$f":"氏名・生年月日・入卒!B9","v":0},{"$f":"氏名・生年月日・入卒!C9","v":0},{"$f":"氏名・生年月日・入卒!D9","v":0}]
[5,{"$f":"氏名・生年月日・入卒!B10","v":0},{"$f":"氏名・生年月日・入卒!C10","v":0},{"$f":"氏名・生年月日・入卒!D10","v":0}]
[6,{"$f":"氏名・生年月日・入卒!B11","v":0},{"$f":"氏名・生年月日・入卒!C11","v":0},{"$f":"氏名・生年月日・入卒!D11","v":0}]
[7,{"$f":"氏名・生年月日・入卒!B12","v":0},{"$f":"氏名・生年月日・入卒!C12","v":0},{"$f":"氏名・生年月日・入卒!D12","v":0}]
[8,{"$f":"氏名・生年月日・入卒!B13","v":0},{"$f":"氏名・生年月日・入卒!C13","v":0},{"$f":"氏名・生年月日・入卒!D13","v":0}]
[9,{"$f":"氏名・生年月日・入卒!B14","v":0},{"$f":"氏名・生年月日・入卒!C14","v":0},{"$f":"氏名・生年月日・入卒!D14","v":0}]
[10,{"$f":"氏名・生年月日・入卒!B15","v":0},{"$f":"氏名・生年月日・入卒!C15","v":0},{"$f":"氏名・生年月日・入卒!D15","v":0}]
[11,{"$f":"氏名・生年月日・入卒!B16","v":0},{"$f":"氏名・生年月日・入卒!C16","v":0},{"$f":"氏名・生年月日・入卒!D16","v":0}]
[12,{"$f":"氏名・生年月日・入卒!B17","v":0},{"$f":"氏名・生年月日・入卒!C17","v":0},{"$f":"氏名・生年月日・入卒!D17","v":0}]
[13,{"$f":"氏名・生年月日・入卒!B18","v":0},{"$f":"氏名・生年月日・入卒!C18","v":0},{"$f":"氏名・生年月日・入卒!D18","v":0}]
[14,{"$f":"氏名・生年月日・入卒!B19","v":0},{"$f":"氏名・生年月日・入卒!C19","v":0},{"$f":"氏名・生年月日・入卒!D19","v":0}]
[15,{"$f":"氏名・生年月日・入卒!B20","v":0},{"$f":"氏名・生年月日・入卒!C20","v":0},{"$f":"氏名・生年月日・入卒!D20","v":0}]
[16,{"$f":"氏名・生年月日・入卒!B21","v":0},{"$f":"氏名・生年月日・入卒!C21","v":0},{"$f":"氏名・生年月日・入卒!D21","v":0}]
[17,{"$f":"氏名・生年月日・入卒!B22","v":0},{"$f":"氏名・生年月日・入卒!C22","v":0},{"$f":"氏名・生年月日・入卒!D22","v":0}]
[18,{"$f":"氏名・生年月日・入卒!B23","v":0},{"$f":"氏名・生年月日・入卒!C23","v":0},{"$f":"氏名・生年月日・入卒!D23","v":0}]
[19,{"$f":"氏名・生年月日・入卒!B24","v":0},{"$f":"氏名・生年月日・入卒!C24","v":0},{"$f":"氏名・生年月日・入卒!D24","v":0}]
[20,{"$f":"氏名・生年月日・入卒!B25","v":0},{"$f":"氏名・生年月日・入卒!C25","v":0},{"$f":"氏名・生年月日・入卒!D25","v":0}]
[21,{"$f":"氏名・生年月日・入卒!B26","v":0},{"$f":"氏名・生年月日・入卒!C26","v":0},{"$f":"氏名・生年月日・入卒!D26","v":0}]
[22,{"$f":"氏名・生年月日・入卒!B27","v":0},{"$f":"氏名・生年月日・入卒!C27","v":0},{"$f":"氏名・生年月日・入卒!D27","v":0}]
[23,{"$f":"氏名・生年月日・入卒!B28","v":0},{"$f":"氏名・生年月日・入卒!C28","v":0},{"$f":"氏名・生年月日・入卒!D28","v":0}]
[24,{"$f":"氏名・生年月日・入卒!B29","v":0},{"$f":"氏名・生年月日・入卒!C29","v":0},{"$f":"氏名・生年月日・入卒!D29","v":0}]
[25,{"$f":"氏名・生年月日・入卒!B30","v":0},{"$f":"氏名・生年月日・入卒!C30","v":0},{"$f":"氏名・生年月日・入卒!D30","v":0}]
[26,{"$f":"氏名・生年月日・入卒!B31","v":0},{"$f":"氏名・生年月日・入卒!C31","v":0},{"$f":"氏名・生年月日・入卒!D31","v":0}]
[27,{"$f":"氏名・生年月日・入卒!B32","v":0},{"$f":"氏名・生年月日・入卒!C32","v":0},{"$f":"氏名・生年月日・入卒!D32","v":0}]
[28,{"$f":"氏名・生年月日・入卒!B33","v":0},{"$f":"氏名・生年月日・入卒!C33","v":0},{"$f":"氏名・生年月日・入卒!D33","v":0}]
[29,{"$f":"氏名・生年月日・入卒!B34","v":0},{"$f":"氏名・生年月日・入卒!C34","v":0},{"$f":"氏名・生年月日・入卒!D34","v":0}]
[30,{"$f":"氏名・生年月日・入卒!B35","v":0},{"$f":"氏名・生年月日・入卒!C35","v":0},{"$f":"氏名・生年月日・入卒!D35","v":0}]
[31,{"$f":"氏名・生年月日・入卒!B36","v":0},{"$f":"氏名・生年月日・入卒!C36","v":0},{"$f":"氏名・生年月日・入卒!D36","v":0}]
[32,{"$f":"氏名・生年月日・入卒!B37","v":0},{"$f":"氏名・生年月日・入卒!C37","v":0},{"$f":"氏名・生年月日・入卒!D37","v":0}]
[33,{"$f":"氏名・生年月日・入卒!B38","v":0},{"$f":"氏名・生年月日・入卒!C38","v":0},{"$f":"氏名・生年月日・入卒!D38","v":0}]
[34,{"$f":"氏名・生年月日・入卒!B39","v":0},{"$f":"氏名・生年月日・入卒!C39","v":0},{"$f":"氏名・生年月日・入卒!D39","v":0}]
[35,{"$f":"氏名・生年月日・入卒!B40","v":0},{"$f":"氏名・生年月日・入卒!C40","v":0},{"$f":"氏名・生年月日・入卒!D40","v":0}]
[36,{"$f":"氏名・生年月日・入卒!B41","v":0},{"$f":"氏名・生年月日・入卒!C41","v":0},{"$f":"氏名・生年月日・入卒!D41","v":0}]
[37,{"$f":"氏名・生年月日・入卒!B42","v":0},{"$f":"氏名・生年月日・入卒!C42","v":0},{"$f":"氏名・生年月日・入卒!D42","v":0}]
[38,{"$f":"氏名・生年月日・入卒!B43","v":0},{"$f":"氏名・生年月日・入卒!C43","v":0},{"$f":"氏名・生年月日・入卒!D43","v":0}]
[39,{"$f":"氏名・生年月日・入卒!B44","v":0},{"$f":"氏名・生年月日・入卒!C44","v":0},{"$f":"氏名・生年月日・入卒!D44","v":0}]
[40,{"$f":"氏名・生年月日・入卒!B45","v":0},{"$f":"氏名・生年月日・入卒!C45","v":0},{"$f":"氏名・生年月日・入卒!D45","v":0}]
[41,{"$f":"氏名・生年月日・入卒!B46","v":0},{"$f":"氏名・生年月日・入卒!C46","v":0},{"$f":"氏名・生年月日・入卒!D46","v":0}]
[42,{"$f":"氏名・生年月日・入卒!B47","v":0},{"$f":"氏名・生年月日・入卒!C47","v":0},{"$f":"氏名・生年月日・入卒!D47","v":0}]
[43,{"$f":"氏名・生年月日・入卒!B48","v":0},{"$f":"氏名・生年月日・入卒!C48","v":0},{"$f":"氏名・生年月日・入卒!D48","v":0}]
[44,{"$f":"氏名・生年月日・入卒!B49","v":0},{"$f":"氏名・生年月日・入卒!C49","v":0},{"$f":"氏名・生年月日・入卒!D49","v":0}]
[45,{"$f":"氏名・生年月日・入卒!B50","v":0},{"$f":"氏名・生年月日・入卒!C50","v":0},{"$f":"氏名・生年月日・入卒!D50","v":0}]
[46,{"$f":"氏名・生年月日・入卒!B51","v":0},{"$f":"氏名・生年月日・入卒!C51","v":0},{"$f":"氏名・生年月日・入卒!D51","v":0}]
[47,{"$f":"氏名・生年月日・入卒!B52","v":0},{"$f":"氏名・生年月日・入卒!C52","v":0},{"$f":"氏名・生年月日・入卒!D52","v":0}]
[48,{"$f":"氏名・生年月日・入卒!B53","v":0},{"$f":"氏名・生年月日・入卒!C53","v":0},{"$f":"氏名・生年月日・入卒!D53","v":0}]
[49,{"$f":"氏名・生年月日・入卒!B54","v":0},{"$f":"氏名・生年月日・入卒!C54","v":0},{"$f":"氏名・生年月日・入卒!D54","v":0}]
[50,{"$f":"氏名・生年月日・入卒!B55","v":0},{"$f":"氏名・生年月日・入卒!C55","v":0},{"$f":"氏名・生年月日・入卒!D55","v":0}]
[51,{"$f":"氏名・生年月日・入卒!B56","v":0},{"$f":"氏名・生年月日・入卒!C56","v":0},{"$f":"氏名・生年月日・入卒!D56","v":0}]
[52,{"$f":"氏名・生年月日・入卒!B57","v":0},{"$f":"氏名・生年月日・入卒!C57","v":0},{"$f":"氏名・生年月日・入卒!D57","v":0}]
[53,{"$f":"氏名・生年月日・入卒!B58","v":0},{"$f":"氏名・生年月日・入卒!C58","v":0},{"$f":"氏名・生年月日・入卒!D58","v":0}]
[54,{"$f":"氏名・生年月日・入卒!B59","v":0},{"$f":"氏名・生年月日・入卒!C59","v":0},{"$f":"氏名・生年月日・入卒!D59","v":0}]
[55,{"$f":"氏名・生年月日・入卒!B60","v":0},{"$f":"氏名・生年月日・入卒!C60","v":0},{"$f":"氏名・生年月日・入卒!D60","v":0}]
[56,{"$f":"氏名・生年月日・入卒!B61","v":0},{"$f":"氏名・生年月日・入卒!C61","v":0},{"$f":"氏名・生年月日・入卒!D61","v":0}]
[57,{"$f":"氏名・生年月日・入卒!B62","v":0},{"$f":"氏名・生年月日・入卒!C62","v":0},{"$f":"氏名・生年月日・入卒!D62","v":0}]
[58,{"$f":"氏名・生年月日・入卒!B63","v":0},{"$f":"氏名・生年月日・入卒!C63","v":0},{"$f":"氏名・生年月日・入卒!D63","v":0}]
[59,{"$f":"氏名・生年月日・入卒!B64","v":0},{"$f":"氏名・生年月日・入卒!C64","v":0},{"$f":"氏名・生年月日・入卒!D64","v":0}]
[60,{"$f":"氏名・生年月日・入卒!B65","v":0},{"$f":"氏名・生年月日・入卒!C65","v":0},{"$f":"氏名・生年月日・入卒!D65","v":0}]
[61,{"$f":"氏名・生年月日・入卒!B66","v":0},{"$f":"氏名・生年月日・入卒!C66","v":0},{"$f":"氏名・生年月日・入卒!D66","v":0}]
[62,{"$f":"氏名・生年月日・入卒!B67","v":0},{"$f":"氏名・生年月日・入卒!C67","v":0},{"$f":"氏名・生年月日・入卒!D67","v":0}]
[63,{"$f":"氏名・生年月日・入卒!B68","v":0},{"$f":"氏名・生年月日・入卒!C68","v":0},{"$f":"氏名・生年月日・入卒!D68","v":0}]
[64,{"$f":"氏名・生年月日・入卒!B69","v":0},{"$f":"氏名・生年月日・入卒!C69","v":0},{"$f":"氏名・生年月日・入卒!D69","v":0}]
[65,{"$f":"氏名・生年月日・入卒!B70","v":0},{"$f":"氏名・生年月日・入卒!C70","v":0},{"$f":"氏名・生年月日・入卒!D70","v":0}]
[66,{"$f":"氏名・生年月日・入卒!B71","v":0},{"$f":"氏名・生年月日・入卒!C71","v":0},{"$f":"氏名・生年月日・入卒!D71","v":0}]
[67,{"$f":"氏名・生年月日・入卒!B72","v":0},{"$f":"氏名・生年月日・入卒!C72","v":0},{"$f":"氏名・生年月日・入卒!D72","v":0}]
[68,{"$f":"氏名・生年月日・入卒!B73","v":0},{"$f":"氏名・生年月日・入卒!C73","v":0},{"$f":"氏名・生年月日・入卒!D73","v":0}]
[69,{"$f":"氏名・生年月日・入卒!B74","v":0},{"$f":"氏名・生年月日・入卒!C74","v":0},{"$f":"氏名・生年月日・入卒!D74","v":0}]
[70,{"$f":"氏名・生年月日・入卒!B75","v":0},{"$f":"氏名・生年月日・入卒!C75","v":0},{"$f":"氏名・生年月日・入卒!D75","v":0}]
[71,{"$f":"氏名・生年月日・入卒!B76","v":0},{"$f":"氏名・生年月日・入卒!C76","v":0},{"$f":"氏名・生年月日・入卒!D76","v":0}]
[72,{"$f":"氏名・生年月日・入卒!B77","v":0},{"$f":"氏名・生年月日・入卒!C77","v":0},{"$f":"氏名・生年月日・入卒!D77","v":0}]
[73,{"$f":"氏名・生年月日・入卒!B78","v":0},{"$f":"氏名・生年月日・入卒!C78","v":0},{"$f":"氏名・生年月日・入卒!D78","v":0}]
[74,{"$f":"氏名・生年月日・入卒!B79","v":0},{"$f":"氏名・生年月日・入卒!C79","v":0},{"$f":"氏名・生年月日・入卒!D79","v":0}]
[75,{"$f":"氏名・生年月日・入卒!B80","v":0},{"$f":"氏名・生年月日・入卒!C80","v":0},{"$f":"氏名・生年月日・入卒!D80","v":0}]
[76,{"$f":"氏名・生年月日・入卒!B81","v":0},{"$f":"氏名・生年月日・入卒!C81","v":0},{"$f":"氏名・生年月日・入卒!D81","v":0}]
[77,{"$f":"氏名・生年月日・入卒!B82","v":0},{"$f":"氏名・生年月日・入卒!C82","v":0},{"$f":"氏名・生年月日・入卒!D82","v":0}]
[78,{"$f":"氏名・生年月日・入卒!B83","v":0},{"$f":"氏名・生年月日・入卒!C83","v":0},{"$f":"氏名・生年月日・入卒!D83","v":0}]
[79,{"$f":"氏名・生年月日・入卒!B84","v":0},{"$f":"氏名・生年月日・入卒!C84","v":0},{"$f":"氏名・生年月日・入卒!D84","v":0}]
[80,{"$f":"氏名・生年月日・入卒!B85","v":0},{"$f":"氏名・生年月日・入卒!C85","v":0},{"$f":"氏名・生年月日・入卒!D85","v":0}]
[81,{"$f":"氏名・生年月日・入卒!B86","v":0},{"$f":"氏名・生年月日・入卒!C86","v":0},{"$f":"氏名・生年月日・入卒!D86","v":0}]
[82,{"$f":"氏名・生年月日・入卒!B87","v":0},{"$f":"氏名・生年月日・入卒!C87","v":0},{"$f":"氏名・生年月日・入卒!D87","v":0}]
[83,{"$f":"氏名・生年月日・入卒!B88","v":0},{"$f":"氏名・生年月日・入卒!C88","v":0},{"$f":"氏名・生年月日・入卒!D88","v":0}]
[84,{"$f":"氏名・生年月日・入卒!B89","v":0},{"$f":"氏名・生年月日・入卒!C89","v":0},{"$f":"氏名・生年月日・入卒!D89","v":0}]
[85,{"$f":"氏名・生年月日・入卒!B90","v":0},{"$f":"氏名・生年月日・入卒!C90","v":0},{"$f":"氏名・生年月日・入卒!D90","v":0}]
[86,{"$f":"氏名・生年月日・入卒!B91","v":0},{"$f":"氏名・生年月日・入卒!C91","v":0},{"$f":"氏名・生年月日・入卒!D91","v":0}]
[87,{"$f":"氏名・生年月日・入卒!B92","v":0},{"$f":"氏名・生年月日・入卒!C92","v":0},{"$f":"氏名・生年月日・入卒!D92","v":0}]
[88,{"$f":"氏名・生年月日・入卒!B93","v":0},{"$f":"氏名・生年月日・入卒!C93","v":0},{"$f":"氏名・生年月日・入卒!D93","v":0}]
[89,{"$f":"氏名・生年月日・入卒!B94","v":0},{"$f":"氏名・生年月日・入卒!C94","v":0},{"$f":"氏名・生年月日・入卒!D94","v":0}]
[90,{"$f":"氏名・生年月日・入卒!B95","v":0},{"$f":"氏名・生年月日・入卒!C95","v":0},{"$f":"氏名・生年月日・入卒!D95","v":0}]
[91,{"$f":"氏名・生年月日・入卒!B96","v":0},{"$f":"氏名・生年月日・入卒!C96","v":0},{"$f":"氏名・生年月日・入卒!D96","v":0}]
[92,{"$f":"氏名・生年月日・入卒!B97","v":0},{"$f":"氏名・生年月日・入卒!C97","v":0},{"$f":"氏名・生年月日・入卒!D97","v":0}]
[93,{"$f":"氏名・生年月日・入卒!B98","v":0},{"$f":"氏名・生年月日・入卒!C98","v":0},{"$f":"氏名・生年月日・入卒!D98","v":0}]
[94,{"$f":"氏名・生年月日・入卒!B99","v":0},{"$f":"氏名・生年月日・入卒!C99","v":0},{"$f":"氏名・生年月日・入卒!D99","v":0}]
[95,{"$f":"氏名・生年月日・入卒!B100","v":0},{"$f":"氏名・生年月日・入卒!C100","v":0},{"$f":"氏名・生年月日・入卒!D100","v":0}]
[96,{"$f":"氏名・生年月日・入卒!B101","v":0},{"$f":"氏名・生年月日・入卒!C101","v":0},{"$f":"氏名・生年月日・入卒!D101","v":0}]
[97,{"$f":"氏名・生年月日・入卒!B102","v":0},{"$f":"氏名・生年月日・入卒!C102","v":0},{"$f":"氏名・生年月日・入卒!D102","v":0}]
[98,{"$f":"氏名・生年月日・入卒!B103","v":0},{"$f":"氏名・生年月日・入卒!C103","v":0},{"$f":"氏名・生年月日・入卒!D103","v":0}]
[99,{"$f":"氏名・生年月日・入卒!B104","v":0},{"$f":"氏名・生年月日・入卒!C104","v":0},{"$f":"氏名・生年月日・入卒!D104","v":0}]
[100,{"$f":"氏名・生年月日・入卒!B105","v":0},{"$f":"氏名・生年月日・入卒!C105","v":0},{"$f":"氏名・生年月日・入卒!D105","v":0}]

{"sheet":"健康・特活・所見","index":5,"n_rows":102,"n_cols":7,"rows_kept":102,"cut":false,"hidden":false,"merged":[]}
["NO","組","番","生徒名","健康状態","特別活動等の記録","担任所見および指導上の参考事項"]
["（例）",3,2,"私　学　協　子","異常なし","弓道部主将としてリーダーシップを発揮し、地区優勝に貢献した。","素直で誰とでも分け隔てなく接することができる生徒である。何事にも真面目で努力している。"]
[1,{"$f":"氏名・生年月日・入卒!B6","v":0},{"$f":"氏名・生年月日・入卒!C6","v":0},{"$f":"氏名・生年月日・入卒!D6","v":0}]
[2,{"$f":"氏名・生年月日・入卒!B7","v":0},{"$f":"氏名・生年月日・入卒!C7","v":0},{"$f":"氏名・生年月日・入卒!D7","v":0}]
[3,{"$f":"氏名・生年月日・入卒!B8","v":0},{"$f":"氏名・生年月日・入卒!C8","v":0},{"$f":"氏名・生年月日・入卒!D8","v":0}]
[4,{"$f":"氏名・生年月日・入卒!B9","v":0},{"$f":"氏名・生年月日・入卒!C9","v":0},{"$f":"氏名・生年月日・入卒!D9","v":0}]
[5,{"$f":"氏名・生年月日・入卒!B10","v":0},{"$f":"氏名・生年月日・入卒!C10","v":0},{"$f":"氏名・生年月日・入卒!D10","v":0}]
[6,{"$f":"氏名・生年月日・入卒!B11","v":0},{"$f":"氏名・生年月日・入卒!C11","v":0},{"$f":"氏名・生年月日・入卒!D11","v":0}]
[7,{"$f":"氏名・生年月日・入卒!B12","v":0},{"$f":"氏名・生年月日・入卒!C12","v":0},{"$f":"氏名・生年月日・入卒!D12","v":0}]
[8,{"$f":"氏名・生年月日・入卒!B13","v":0},{"$f":"氏名・生年月日・入卒!C13","v":0},{"$f":"氏名・生年月日・入卒!D13","v":0}]
[9,{"$f":"氏名・生年月日・入卒!B14","v":0},{"$f":"氏名・生年月日・入卒!C14","v":0},{"$f":"氏名・生年月日・入卒!D14","v":0}]
[10,{"$f":"氏名・生年月日・入卒!B15","v":0},{"$f":"氏名・生年月日・入卒!C15","v":0},{"$f":"氏名・生年月日・入卒!D15","v":0}]
[11,{"$f":"氏名・生年月日・入卒!B16","v":0},{"$f":"氏名・生年月日・入卒!C16","v":0},{"$f":"氏名・生年月日・入卒!D16","v":0}]
[12,{"$f":"氏名・生年月日・入卒!B17","v":0},{"$f":"氏名・生年月日・入卒!C17","v":0},{"$f":"氏名・生年月日・入卒!D17","v":0}]
[13,{"$f":"氏名・生年月日・入卒!B18","v":0},{"$f":"氏名・生年月日・入卒!C18","v":0},{"$f":"氏名・生年月日・入卒!D18","v":0}]
[14,{"$f":"氏名・生年月日・入卒!B19","v":0},{"$f":"氏名・生年月日・入卒!C19","v":0},{"$f":"氏名・生年月日・入卒!D19","v":0}]
[15,{"$f":"氏名・生年月日・入卒!B20","v":0},{"$f":"氏名・生年月日・入卒!C20","v":0},{"$f":"氏名・生年月日・入卒!D20","v":0}]
[16,{"$f":"氏名・生年月日・入卒!B21","v":0},{"$f":"氏名・生年月日・入卒!C21","v":0},{"$f":"氏名・生年月日・入卒!D21","v":0}]
[17,{"$f":"氏名・生年月日・入卒!B22","v":0},{"$f":"氏名・生年月日・入卒!C22","v":0},{"$f":"氏名・生年月日・入卒!D22","v":0}]
[18,{"$f":"氏名・生年月日・入卒!B23","v":0},{"$f":"氏名・生年月日・入卒!C23","v":0},{"$f":"氏名・生年月日・入卒!D23","v":0}]
[19,{"$f":"氏名・生年月日・入卒!B24","v":0},{"$f":"氏名・生年月日・入卒!C24","v":0},{"$f":"氏名・生年月日・入卒!D24","v":0}]
[20,{"$f":"氏名・生年月日・入卒!B25","v":0},{"$f":"氏名・生年月日・入卒!C25","v":0},{"$f":"氏名・生年月日・入卒!D25","v":0}]
[21,{"$f":"氏名・生年月日・入卒!B26","v":0},{"$f":"氏名・生年月日・入卒!C26","v":0},{"$f":"氏名・生年月日・入卒!D26","v":0}]
[22,{"$f":"氏名・生年月日・入卒!B27","v":0},{"$f":"氏名・生年月日・入卒!C27","v":0},{"$f":"氏名・生年月日・入卒!D27","v":0}]
[23,{"$f":"氏名・生年月日・入卒!B28","v":0},{"$f":"氏名・生年月日・入卒!C28","v":0},{"$f":"氏名・生年月日・入卒!D28","v":0}]
[24,{"$f":"氏名・生年月日・入卒!B29","v":0},{"$f":"氏名・生年月日・入卒!C29","v":0},{"$f":"氏名・生年月日・入卒!D29","v":0}]
[25,{"$f":"氏名・生年月日・入卒!B30","v":0},{"$f":"氏名・生年月日・入卒!C30","v":0},{"$f":"氏名・生年月日・入卒!D30","v":0}]
[26,{"$f":"氏名・生年月日・入卒!B31","v":0},{"$f":"氏名・生年月日・入卒!C31","v":0},{"$f":"氏名・生年月日・入卒!D31","v":0}]
[27,{"$f":"氏名・生年月日・入卒!B32","v":0},{"$f":"氏名・生年月日・入卒!C32","v":0},{"$f":"氏名・生年月日・入卒!D32","v":0}]
[28,{"$f":"氏名・生年月日・入卒!B33","v":0},{"$f":"氏名・生年月日・入卒!C33","v":0},{"$f":"氏名・生年月日・入卒!D33","v":0}]
[29,{"$f":"氏名・生年月日・入卒!B34","v":0},{"$f":"氏名・生年月日・入卒!C34","v":0},{"$f":"氏名・生年月日・入卒!D34","v":0}]
[30,{"$f":"氏名・生年月日・入卒!B35","v":0},{"$f":"氏名・生年月日・入卒!C35","v":0},{"$f":"氏名・生年月日・入卒!D35","v":0}]
[31,{"$f":"氏名・生年月日・入卒!B36","v":0},{"$f":"氏名・生年月日・入卒!C36","v":0},{"$f":"氏名・生年月日・入卒!D36","v":0}]
[32,{"$f":"氏名・生年月日・入卒!B37","v":0},{"$f":"氏名・生年月日・入卒!C37","v":0},{"$f":"氏名・生年月日・入卒!D37","v":0}]
[33,{"$f":"氏名・生年月日・入卒!B38","v":0},{"$f":"氏名・生年月日・入卒!C38","v":0},{"$f":"氏名・生年月日・入卒!D38","v":0}]
[34,{"$f":"氏名・生年月日・入卒!B39","v":0},{"$f":"氏名・生年月日・入卒!C39","v":0},{"$f":"氏名・生年月日・入卒!D39","v":0}]
[35,{"$f":"氏名・生年月日・入卒!B40","v":0},{"$f":"氏名・生年月日・入卒!C40","v":0},{"$f":"氏名・生年月日・入卒!D40","v":0}]
[36,{"$f":"氏名・生年月日・入卒!B41","v":0},{"$f":"氏名・生年月日・入卒!C41","v":0},{"$f":"氏名・生年月日・入卒!D41","v":0}]
[37,{"$f":"氏名・生年月日・入卒!B42","v":0},{"$f":"氏名・生年月日・入卒!C42","v":0},{"$f":"氏名・生年月日・入卒!D42","v":0}]
[38,{"$f":"氏名・生年月日・入卒!B43","v":0},{"$f":"氏名・生年月日・入卒!C43","v":0},{"$f":"氏名・生年月日・入卒!D43","v":0}]
[39,{"$f":"氏名・生年月日・入卒!B44","v":0},{"$f":"氏名・生年月日・入卒!C44","v":0},{"$f":"氏名・生年月日・入卒!D44","v":0}]
[40,{"$f":"氏名・生年月日・入卒!B45","v":0},{"$f":"氏名・生年月日・入卒!C45","v":0},{"$f":"氏名・生年月日・入卒!D45","v":0}]
[41,{"$f":"氏名・生年月日・入卒!B46","v":0},{"$f":"氏名・生年月日・入卒!C46","v":0},{"$f":"氏名・生年月日・入卒!D46","v":0}]
[42,{"$f":"氏名・生年月日・入卒!B47","v":0},{"$f":"氏名・生年月日・入卒!C47","v":0},{"$f":"氏名・生年月日・入卒!D47","v":0}]
[43,{"$f":"氏名・生年月日・入卒!B48","v":0},{"$f":"氏名・生年月日・入卒!C48","v":0},{"$f":"氏名・生年月日・入卒!D48","v":0}]
[44,{"$f":"氏名・生年月日・入卒!B49","v":0},{"$f":"氏名・生年月日・入卒!C49","v":0},{"$f":"氏名・生年月日・入卒!D49","v":0}]
[45,{"$f":"氏名・生年月日・入卒!B50","v":0},{"$f":"氏名・生年月日・入卒!C50","v":0},{"$f":"氏名・生年月日・入卒!D50","v":0}]
[46,{"$f":"氏名・生年月日・入卒!B51","v":0},{"$f":"氏名・生年月日・入卒!C51","v":0},{"$f":"氏名・生年月日・入卒!D51","v":0}]
[47,{"$f":"氏名・生年月日・入卒!B52","v":0},{"$f":"氏名・生年月日・入卒!C52","v":0},{"$f":"氏名・生年月日・入卒!D52","v":0}]
[48,{"$f":"氏名・生年月日・入卒!B53","v":0},{"$f":"氏名・生年月日・入卒!C53","v":0},{"$f":"氏名・生年月日・入卒!D53","v":0}]
[49,{"$f":"氏名・生年月日・入卒!B54","v":0},{"$f":"氏名・生年月日・入卒!C54","v":0},{"$f":"氏名・生年月日・入卒!D54","v":0}]
[50,{"$f":"氏名・生年月日・入卒!B55","v":0},{"$f":"氏名・生年月日・入卒!C55","v":0},{"$f":"氏名・生年月日・入卒!D55","v":0}]
[51,{"$f":"氏名・生年月日・入卒!B56","v":0},{"$f":"氏名・生年月日・入卒!C56","v":0},{"$f":"氏名・生年月日・入卒!D56","v":0}]
[52,{"$f":"氏名・生年月日・入卒!B57","v":0},{"$f":"氏名・生年月日・入卒!C57","v":0},{"$f":"氏名・生年月日・入卒!D57","v":0}]
[53,{"$f":"氏名・生年月日・入卒!B58","v":0},{"$f":"氏名・生年月日・入卒!C58","v":0},{"$f":"氏名・生年月日・入卒!D58","v":0}]
[54,{"$f":"氏名・生年月日・入卒!B59","v":0},{"$f":"氏名・生年月日・入卒!C59","v":0},{"$f":"氏名・生年月日・入卒!D59","v":0}]
[55,{"$f":"氏名・生年月日・入卒!B60","v":0},{"$f":"氏名・生年月日・入卒!C60","v":0},{"$f":"氏名・生年月日・入卒!D60","v":0}]
[56,{"$f":"氏名・生年月日・入卒!B61","v":0},{"$f":"氏名・生年月日・入卒!C61","v":0},{"$f":"氏名・生年月日・入卒!D61","v":0}]
[57,{"$f":"氏名・生年月日・入卒!B62","v":0},{"$f":"氏名・生年月日・入卒!C62","v":0},{"$f":"氏名・生年月日・入卒!D62","v":0}]
[58,{"$f":"氏名・生年月日・入卒!B63","v":0},{"$f":"氏名・生年月日・入卒!C63","v":0},{"$f":"氏名・生年月日・入卒!D63","v":0}]
[59,{"$f":"氏名・生年月日・入卒!B64","v":0},{"$f":"氏名・生年月日・入卒!C64","v":0},{"$f":"氏名・生年月日・入卒!D64","v":0}]
[60,{"$f":"氏名・生年月日・入卒!B65","v":0},{"$f":"氏名・生年月日・入卒!C65","v":0},{"$f":"氏名・生年月日・入卒!D65","v":0}]
[61,{"$f":"氏名・生年月日・入卒!B66","v":0},{"$f":"氏名・生年月日・入卒!C66","v":0},{"$f":"氏名・生年月日・入卒!D66","v":0}]
[62,{"$f":"氏名・生年月日・入卒!B67","v":0},{"$f":"氏名・生年月日・入卒!C67","v":0},{"$f":"氏名・生年月日・入卒!D67","v":0}]
[63,{"$f":"氏名・生年月日・入卒!B68","v":0},{"$f":"氏名・生年月日・入卒!C68","v":0},{"$f":"氏名・生年月日・入卒!D68","v":0}]
[64,{"$f":"氏名・生年月日・入卒!B69","v":0},{"$f":"氏名・生年月日・入卒!C69","v":0},{"$f":"氏名・生年月日・入卒!D69","v":0}]
[65,{"$f":"氏名・生年月日・入卒!B70","v":0},{"$f":"氏名・生年月日・入卒!C70","v":0},{"$f":"氏名・生年月日・入卒!D70","v":0}]
[66,{"$f":"氏名・生年月日・入卒!B71","v":0},{"$f":"氏名・生年月日・入卒!C71","v":0},{"$f":"氏名・生年月日・入卒!D71","v":0}]
[67,{"$f":"氏名・生年月日・入卒!B72","v":0},{"$f":"氏名・生年月日・入卒!C72","v":0},{"$f":"氏名・生年月日・入卒!D72","v":0}]
[68,{"$f":"氏名・生年月日・入卒!B73","v":0},{"$f":"氏名・生年月日・入卒!C73","v":0},{"$f":"氏名・生年月日・入卒!D73","v":0}]
[69,{"$f":"氏名・生年月日・入卒!B74","v":0},{"$f":"氏名・生年月日・入卒!C74","v":0},{"$f":"氏名・生年月日・入卒!D74","v":0}]
[70,{"$f":"氏名・生年月日・入卒!B75","v":0},{"$f":"氏名・生年月日・入卒!C75","v":0},{"$f":"氏名・生年月日・入卒!D75","v":0}]
[71,{"$f":"氏名・生年月日・入卒!B76","v":0},{"$f":"氏名・生年月日・入卒!C76","v":0},{"$f":"氏名・生年月日・入卒!D76","v":0}]
[72,{"$f":"氏名・生年月日・入卒!B77","v":0},{"$f":"氏名・生年月日・入卒!C77","v":0},{"$f":"氏名・生年月日・入卒!D77","v":0}]
[73,{"$f":"氏名・生年月日・入卒!B78","v":0},{"$f":"氏名・生年月日・入卒!C78","v":0},{"$f":"氏名・生年月日・入卒!D78","v":0}]
[74,{"$f":"氏名・生年月日・入卒!B79","v":0},{"$f":"氏名・生年月日・入卒!C79","v":0},{"$f":"氏名・生年月日・入卒!D79","v":0}]
[75,{"$f":"氏名・生年月日・入卒!B80","v":0},{"$f":"氏名・生年月日・入卒!C80","v":0},{"$f":"氏名・生年月日・入卒!D80","v":0}]
[76,{"$f":"氏名・生年月日・入卒!B81","v":0},{"$f":"氏名・生年月日・入卒!C81","v":0},{"$f":"氏名・生年月日・入卒!D81","v":0}]
[77,{"$f":"氏名・生年月日・入卒!B82","v":0},{"$f":"氏名・生年月日・入卒!C82","v":0},{"$f":"氏名・生年月日・入卒!D82","v":0}]
[78,{"$f":"氏名・生年月日・入卒!B83","v":0},{"$f":"氏名・生年月日・入卒!C83","v":0},{"$f":"氏名・生年月日・入卒!D83","v":0}]
[79,{"$f":"氏名・生年月日・入卒!B84","v":0},{"$f":"氏名・生年月日・入卒!C84","v":0},{"$f":"氏名・生年月日・入卒!D84","v":0}]
[80,{"$f":"氏名・生年月日・入卒!B85","v":0},{"$f":"氏名・生年月日・入卒!C85","v":0},{"$f":"氏名・生年月日・入卒!D85","v":0}]
[81,{"$f":"氏名・生年月日・入卒!B86","v":0},{"$f":"氏名・生年月日・入卒!C86","v":0},{"$f":"氏名・生年月日・入卒!D86","v":0}]
[82,{"$f":"氏名・生年月日・入卒!B87","v":0},{"$f":"氏名・生年月日・入卒!C87","v":0},{"$f":"氏名・生年月日・入卒!D87","v":0}]
[83,{"$f":"氏名・生年月日・入卒!B88","v":0},{"$f":"氏名・生年月日・入卒!C88","v":0},{"$f":"氏名・生年月日・入卒!D88","v":0}]
[84,{"$f":"氏名・生年月日・入卒!B89","v":0},{"$f":"氏名・生年月日・入卒!C89","v":0},{"$f":"氏名・生年月日・入卒!D89","v":0}]
[85,{"$f":"氏名・生年月日・入卒!B90","v":0},{"$f":"氏名・生年月日・入卒!C90","v":0},{"$f":"氏名・生年月日・入卒!D90","v":0}]
[86,{"$f":"氏名・生年月日・入卒!B91","v":0},{"$f":"氏名・生年月日・入卒!C91","v":0},{"$f":"氏名・生年月日・入卒!D91","v":0}]
[87,{"$f":"氏名・生年月日・入卒!B92","v":0},{"$f":"氏名・生年月日・入卒!C92","v":0},{"$f":"氏名・生年月日・入卒!D92","v":0}]
[88,{"$f":"氏名・生年月日・入卒!B93","v":0},{"$f":"氏名・生年月日・入卒!C93","v":0},{"$f":"氏名・生年月日・入卒!D93","v":0}]
[89,{"$f":"氏名・生年月日・入卒!B94","v":0},{"$f":"氏名・生年月日・入卒!C94","v":0},{"$f":"氏名・生年月日・入卒!D94","v":0}]
[90,{"$f":"氏名・生年月日・入卒!B95","v":0},{"$f":"氏名・生年月日・入卒!C95","v":0},{"$f":"氏名・生年月日・入卒!D95","v":0}]
[91,{"$f":"氏名・生年月日・入卒!B96","v":0},{"$f":"氏名・生年月日・入卒!C96","v":0},{"$f":"氏名・生年月日・入卒!D96","v":0}]
[92,{"$f":"氏名・生年月日・入卒!B97","v":0},{"$f":"氏名・生年月日・入卒!C97","v":0},{"$f":"氏名・生年月日・入卒!D97","v":0}]
[93,{"$f":"氏名・生年月日・入卒!B98","v":0},{"$f":"氏名・生年月日・入卒!C98","v":0},{"$f":"氏名・生年月日・入卒!D98","v":0}]
[94,{"$f":"氏名・生年月日・入卒!B99","v":0},{"$f":"氏名・生年月日・入卒!C99","v":0},{"$f":"氏名・生年月日・入卒!D99","v":0}]
[95,{"$f":"氏名・生年月日・入卒!B100","v":0},{"$f":"氏名・生年月日・入卒!C100","v":0},{"$f":"氏名・生年月日・入卒!D100","v":0}]
[96,{"$f":"氏名・生年月日・入卒!B101","v":0},{"$f":"氏名・生年月日・入卒!C101","v":0},{"$f":"氏名・生年月日・入卒!D101","v":0}]
[97,{"$f":"氏名・生年月日・入卒!B102","v":0},{"$f":"氏名・生年月日・入卒!C102","v":0},{"$f":"氏名・生年月日・入卒!D102","v":0}]
[98,{"$f":"氏名・生年月日・入卒!B103","v":0},{"$f":"氏名・生年月日・入卒!C103","v":0},{"$f":"氏名・生年月日・入卒!D103","v":0}]
[99,{"$f":"氏名・生年月日・入卒!B104","v":0},{"$f":"氏名・生年月日・入卒!C104","v":0},{"$f":"氏名・生年月日・入卒!D104","v":0}]
[100,{"$f":"氏名・生年月日・入卒!B105","v":0},{"$f":"氏名・生年月日・入卒!C105","v":0},{"$f":"氏名・生年月日・入卒!D105","v":0}]

{"sheet":"調査書印刷","index":6,"n_rows":119,"n_cols":105,"rows_kept":119,"cut":false,"hidden":false,"merged":[[46,12,48,17],[49,12,51,17],[53,14,54,18],[57,14,58,18],[61,77,62,79],[61,56,62,58],[102,11,110,18],[57,77,58,79],[61,21,62,23],[61,28,62,30],[61,35,62,37],[46,41,48,44],[46,48,48,50],[61,14,62,18],[65,14,66,18],[69,14,70,18],[61,42,62,44],[61,49,62,51],[61,63,62,65],[57,56,58,58],[46,51,48,53],[102,20,110,80],[52,11,67,13],[81,34,82,38],[73,41,74,80],[77,41,78,80],[81,41,82,80],[85,20,88,80],[91,20,99,80],[65,77,66,79],[52,75,55,81],[73,20,74,24],[73,27,74,31],[73,34,74,38],[77,20,78,24],[77,27,78,31],[77,34,78,38],[61,70,62,72],[3,90,6,96],[41,20,44,37],[37,57,39,73],[40,57,42,73],[46,28,48,30],[46,33,48,35],[49,26,51,32],[37,45,39,47],[40,45,42,47],[43,50,45,80],[46,45,48,47],[49,45,51,47],[46,57,48,73],[49,57,51,73],[31,50,32,80],[34,50,35,72],[20,62,21,65],[46,26,48,27],[46,31,48,32],[46,36,48,38],[37,20,39,38],[20,69,21,71],[20,75,21,77],[2,31,5,57],[113,11,114,14],[113,15,114,18],[113,19,114,22],[73,14,74,18],[81,20,82,24],[81,27,82,31],[112,78,115,81],[46,23,48,25],[37,74,39,80],[40,74,42,80],[46,74,48,80],[49,74,51,80],[46,54,48,56],[49,41,51,44],[49,48,51,50],[49,51,51,53],[49,54,51,56],[40,41,42,44],[40,48,42,50],[40,51,42,53],[40,54,42,56],[37,51,39,53],[65,56,66,58],[112,43,115,51],[118,40,119,64],[16,11,17,19],[15,58,18,62],[15,63,16,64],[20,58,21,61],[37,12,39,17],[113,23,114,26],[113,27,114,30],[115,11,116,12],[115,15,116,16],[115,19,116,20],[115,23,116,24],[115,27,116,28],[69,34,70,38],[69,41,70,80],[85,11,88,18],[91,11,99,18],[77,14,78,18],[65,63,66,65],[65,70,66,72],[57,63,58,65],[57,70,58,72],[81,14,82,18],[69,11,82,13],[46,20,48,22],[113,54,114,76],[52,62,55,66],[52,69,55,73],[53,20,54,24],[53,27,54,31],[53,34,54,38],[53,41,54,45],[53,48,54,52],[53,55,54,59],[113,35,114,36],[69,20,70,24],[69,27,70,31],[65,21,66,23],[65,28,66,30],[65,35,66,37],[65,42,66,44],[65,49,66,51],[57,21,58,23],[57,28,58,30],[57,35,58,37],[57,42,58,44],[57,49,58,51],[113,31,114,32],[25,101,28,103],[25,90,28,95],[25,96,28,100],[25,104,28,107],[33,103,44,110],[8,75,13,81],[20,78,21,80],[20,66,21,68],[20,72,21,74],[24,15,25,73],[31,42,32,49],[34,42,35,49],[34,76,35,77],[11,100,22,107],[37,41,39,44],[41,12,44,17],[37,54,39,56],[15,20,17,55],[37,48,39,50],[43,41,45,48]]}
[]
[]
[null,null,null,null,null,null,null,null,null,null,null,null,null,null,null,null,null,null,null,null,null,null,null,null,null,null,null,null,null,null,null,"調査書印刷"]
[]
[]
[]
[]
[null,null,null,null,null,null,null,null,null,null,null,null,null,null,null,null,null,null,null,null,null,null,null,null,null,null,null,null,null,null,null,null,null,null,null,null,null,null,null,null,null,null,null,null,null,null,null,null,null,null,null,null,null,null,null,null,null,null,null,null,null,null,null,null,null,null,null,null,null,null,null,null,null,null,null,null,null,null,null,null,null,null,null,null,null,null,null,null,null,null,4]
[]
[]
[]
[null,null,null,null,null,null,null,null,null,null,null,null,null,null,null,null,null,null,null,null,null,null,null,null,null,null,null,null,null,null,null,null,null,null,null,null,null,null,null,null,null,null,null,null,null,null,null,null,null,null,null,null,null,null,null,null,null,null,null,null,null,null,null,null,null,null,null,null,null,null,null,null,null,null,null,null,null,null,null,null,null,null,null,null,null,null,null,null,null,null,null,null,null,null,null,null,null,null,null,null,"ここに　名前・生年月日・入卒シートのＡ列の番号を入力後、印刷を実行してください。"]
[]
[]
[]
[null,null,null,null,null,null,null,null,null,null,null,null,null,null,null,null,null,null,null,null,"鹿児島県私立高等学校統一調査書",null,null,null,null,null,null,null,null,null,null,null,null,null,null,null,null,null,null,null,null,null,null,null,null,null,null,null,null,null,null,null,null,null,null,null,null,null,"受験\n番号",null,null,null,null,"※"]
[null,null,null,null,null,null,null,null,null,null,null,"平成３１年度"]
[]
[]
[]
[null,null,null,null,null,null,null,null,null,null,null,null,null,null,null,null,null,null,null,null,null,null,null,null,null,null,null,null,null,null,null,null,null,null,null,null,null,null,null,null,null,null,null,null,null,null,null,null,null,null,null,null,null,null,null,null,null,null,"平成",null,null,null,{"$f":"IF(中学校名!D6=\"\",\"\",中学校名!D6)","v":""},null,null,null,"年",null,null,{"$f":"IF(中学校名!E6=\"\",\"\",中学校名!E6)","v":""},null,null,"月",null,null,{"$f":"IF(中学校名!F6=\"\",\"\",中学校名!F6)","v":""},null,null,"日"]
[]
[]
[]
[null,null,null,null,null,null,null,null,null,null,null,null,null,null,null,"下記のとおり相違ないことを証明します。"]
[null,null,null,null,null,null,null,null,null,null,null,null,null,null,null,null,null,null,null,null,null,null,null,null,null,null,null,null,null,null,null,null,null,null,null,null,null,null,null,null,null,null,null,null,null,null,null,null,null,null,null,null,null,null,null,null,null,null,null,null,null,null,null,null,null,null,null,null,null,null,null,null,null,null,null,null,null,null,null,null,null,null,null,null,null,null,null,null,null,null,null,null,null,null,null,null,"番から",null,null,null,null,null,null,null,"番まで印刷"]
[]
[]
[]
[]
[]
[null,null,null,null,null,null,null,null,null,null,null,null,null,null,null,null,null,null,null,null,null,null,null,null,null,null,null,null,null,null,null,null,null,null,null,null,null,null,null,null,null,null,"中学校名",null,null,null,null,null,null,null,{"$f":"IF(中学校名!D10=\"\",\"\",中学校名!D10)","v":""}]
[]
[null,null,null,null,null,null,null,null,null,null,null,null,null,null,null,null,null,null,null,null,null,null,null,null,null,null,null,null,null,null,null,null,null,null,null,null,null,null,null,null,null,null,null,null,null,null,null,null,null,null,null,null,null,null,null,null,null,null,null,null,null,null,null,null,null,null,null,null,null,null,null,null,null,null,null,null,null,null,null,null,null,null,null,null,null,null,null,null,null,null,null,null,null,null,null,null,null,null,null,null,null,null,null,"名前・生年月日・入卒シートのＡ列の番号を連番で印刷することも可能です。"]
[null,null,null,null,null,null,null,null,null,null,null,null,null,null,null,null,null,null,null,null,null,null,null,null,null,null,null,null,null,null,null,null,null,null,null,null,null,null,null,null,null,null,"校 長 名",null,null,null,null,null,null,null,{"$f":"IF(中学校名!D14=\"\",\"\",中学校名!D14)","v":""},null,null,null,null,null,null,null,null,null,null,null,null,null,null,null,null,null,null,null,null,null,null,null,null,null,"印"]
[null,null,null,null,null,null,null,null,null,null,null,null,null,null,null,null,null,null,null,null,null,null,null,null,null,null,null,null,null,null,null,null,null,null,null,null,null,null,null,null,null,null,null,null,null,null,null,null,null,null,null,null,null,null,null,null,null,null,null,null,null,null,null,null,null,null,null,null,null,null,null,null,null,null,null,null,null,null,null,null,null,null,null,null,null,null,null,null,{"$f":"IF($CI$2=\"\",\"\",VLOOKUP(CI2,[1]名前・生年月日入力!A9:V108,5))","v":""}]
[]
[null,null,null,null,null,null,null,null,null,null,null,null,"ふりがな",null,null,null,null,null,null,null,{"$f":"IF($CM$4=\"\",\"\",VLOOKUP($CM$4,氏名・生年月日・入卒!$A$6:$AB$105,5))","v":""},null,null,null,null,null,null,null,null,null,null,null,null,null,null,null,null,null,null,null,null,"平成",null,null,null,{"$f":"IF($CM$4=\"\",\"\",VLOOKUP($CM$4,氏名・生年月日・入卒!$A$6:$AB$105,12))","v":""},null,null,"年",null,null,4,null,null,"月",null,null,{"$f":"IF($CM$4=\"\",\"\",VLOOKUP($CM$4,氏名・生年月日・入卒!$A$6:$AB$105,13))","v":""},null,null,null,null,null,null,null,null,null,null,null,null,null,null,null,null,"中学校入学",null,null,null,null,null,null,null,null,null,null,null,null,null,{"$f":"IF($CI$2=\"\",\"\",VLOOKUP($CI$2,[2]名前・生年月日入力!$A$9:$V$108,13))","v":""}]
[]
[]
[null,null,null,null,null,null,null,null,null,null,null,null,null,null,null,null,null,null,null,null,null,null,null,null,null,null,null,null,null,null,null,null,null,null,null,null,null,null,null,null,null,"平成",null,null,null,{"$f":"IF($CM$4=\"\",\"\",VLOOKUP($CM$4,氏名・生年月日・入卒!$A$6:$AB$105,21))","v":""},{"$f":"IF($CM$4=\"\",\"\",VLOOKUP($CM$4,氏名・生年月日・入卒!$A$6:$AB$105,8))","v":""},{"$f":"IF($CM$4=\"\",\"\",VLOOKUP($CM$4,氏名・生年月日・入卒!$A$6:$AB$105,8))","v":""},"年",null,null,{"$f":"IF($CM$4=\"\",\"\",VLOOKUP($CM$4,氏名・生年月日・入卒!$A$6:$AB$105,22))","v":""},null,null,"月",null,null,{"$f":"IF($CM$4=\"\",\"\",VLOOKUP($CM$4,氏名・生年月日・入卒!$A$6:$AB$105,23))","v":""},null,null,null,null,null,null,null,null,null,null,null,null,null,null,null,null,"中学校へ\n転入学"]
[null,null,null,null,null,null,null,null,null,null,null,null,"志願者\n氏　名",null,null,null,null,null,null,null,{"$f":"IF($CM$4=\"\",\"\",VLOOKUP($CM$4,氏名・生年月日・入卒!$A$6:$AB$105,4))","v":""},null,null,null,null,null,null,null,null,null,null,null,null,null,null,null,null,null,null,null,null,null,null,null,null,{"$f":"IF($CM$4=\"\",\"\",VLOOKUP($CM$4,氏名・生年月日・入卒!$A$6:$AB$105,8))","v":""},{"$f":"IF($CM$4=\"\",\"\",VLOOKUP($CM$4,氏名・生年月日・入卒!$A$6:$AB$105,8))","v":""},{"$f":"IF($CM$4=\"\",\"\",VLOOKUP($CM$4,氏名・生年月日・入卒!$A$6:$AB$105,8))","v":""}]
[null,null,null,null,null,null,null,null,null,null,null,null,null,null,null,null,null,null,null,null,null,null,null,null,null,null,null,null,null,null,null,null,null,null,null,null,null,null,null,null,null,null,null,null,null,{"$f":"IF($CM$4=\"\",\"\",VLOOKUP($CM$4,氏名・生年月日・入卒!$A$6:$AB$105,8))","v":""},{"$f":"IF($CM$4=\"\",\"\",VLOOKUP($CM$4,氏名・生年月日・入卒!$A$6:$AB$105,8))","v":""},{"$f":"IF($CM$4=\"\",\"\",VLOOKUP($CM$4,氏名・生年月日・入卒!$A$6:$AB$105,8))","v":""}]
[null,null,null,null,null,null,null,null,null,null,null,null,null,null,null,null,null,null,null,null,null,null,null,null,null,null,null,null,null,null,null,null,null,null,null,null,null,null,null,null,null,"転入学の理由",null,null,null,null,null,null,null,null,{"$f":"IF($CM$4=\"\",\"\",VLOOKUP($CM$4,氏名・生年月日・入卒!$A$6:$AB$105,24))","v":""}]
[]
[]
[null,null,null,null,null,null,null,null,null,null,null,null,"生年月日",null,null,null,null,null,null,null,"平成",null,null,{"$f":"IF($CM$4=\"\",\"\",VLOOKUP($CM$4,氏名・生年月日・入卒!$A$6:$AB$105,6))","v":""},null,null,"年",null,{"$f":"IF($CM$4=\"\",\"\",VLOOKUP($CM$4,氏名・生年月日・入卒!$A$6:$AB$105,7))","v":""},null,null,"月",null,{"$f":"IF($CM$4=\"\",\"\",VLOOKUP($CM$4,氏名・生年月日・入卒!$A$6:$AB$105,8))","v":""},null,null,"日生",null,null,null,null,"平成",null,null,null,{"$f":"IF($CM$4=\"\",\"\",VLOOKUP($CM$4,氏名・生年月日・入卒!$A$6:$AB$105,15))","v":""},{"$f":"IF($CM$4=\"\",\"\",VLOOKUP($CM$4,氏名・生年月日・入卒!$A$6:$AB$105,8))","v":""},{"$f":"IF($CM$4=\"\",\"\",VLOOKUP($CM$4,氏名・生年月日・入卒!$A$6:$AB$105,8))","v":""},"年",null,null,{"$f":"IF($CM$4=\"\",\"\",VLOOKUP($CM$4,氏名・生年月日・入卒!$A$6:$AB$105,16))","v":""},{"$f":"IF($CM$4=\"\",\"\",VLOOKUP($CM$4,氏名・生年月日・入卒!$A$6:$AB$105,8))","v":""},{"$f":"IF($CM$4=\"\",\"\",VLOOKUP($CM$4,氏名・生年月日・入卒!$A$6:$AB$105,8))","v":""},"月",null,null,{"$f":"IF($CM$4=\"\",\"\",VLOOKUP($CM$4,氏名・生年月日・入卒!$A$6:$AB$105,17))","v":""},null,null,null,null,null,null,null,null,null,null,null,null,null,null,null,null,"中学校卒業\n見込み"]
[null,null,null,null,null,null,null,null,null,null,null,null,null,null,null,null,null,null,null,null,null,null,null,null,null,null,null,null,null,null,null,null,null,null,null,null,null,null,null,null,null,null,null,null,null,{"$f":"IF($CM$4=\"\",\"\",VLOOKUP($CM$4,氏名・生年月日・入卒!$A$6:$AB$105,8))","v":""},{"$f":"IF($CM$4=\"\",\"\",VLOOKUP($CM$4,氏名・生年月日・入卒!$A$6:$AB$105,8))","v":""},{"$f":"IF($CM$4=\"\",\"\",VLOOKUP($CM$4,氏名・生年月日・入卒!$A$6:$AB$105,8))","v":""},null,null,null,{"$f":"IF($CM$4=\"\",\"\",VLOOKUP($CM$4,氏名・生年月日・入卒!$A$6:$AB$105,8))","v":""},{"$f":"IF($CM$4=\"\",\"\",VLOOKUP($CM$4,氏名・生年月日・入卒!$A$6:$AB$105,8))","v":""},{"$f":"IF($CM$4=\"\",\"\",VLOOKUP($CM$4,氏名・生年月日・入卒!$A$6:$AB$105,8))","v":""}]
[null,null,null,null,null,null,null,null,null,null,null,null,null,null,null,null,null,null,null,null,null,null,null,null,null,null,null,null,null,null,null,null,null,null,null,null,null,null,null,null,null,null,null,null,null,{"$f":"IF($CM$4=\"\",\"\",VLOOKUP($CM$4,氏名・生年月日・入卒!$A$6:$AB$105,8))","v":""},{"$f":"IF($CM$4=\"\",\"\",VLOOKUP($CM$4,氏名・生年月日・入卒!$A$6:$AB$105,8))","v":""},{"$f":"IF($CM$4=\"\",\"\",VLOOKUP($CM$4,氏名・生年月日・入卒!$A$6:$AB$105,8))","v":""},null,null,null,{"$f":"IF($CM$4=\"\",\"\",VLOOKUP($CM$4,氏名・生年月日・入卒!$A$6:$AB$105,8))","v":""},{"$f":"IF($CM$4=\"\",\"\",VLOOKUP($CM$4,氏名・生年月日・入卒!$A$6:$AB$105,8))","v":""},{"$f":"IF($CM$4=\"\",\"\",VLOOKUP($CM$4,氏名・生年月日・入卒!$A$6:$AB$105,8))","v":""}]
[null,null,null,null,null,null,null,null,null,null,null,null,"性　別",null,null,null,null,null,null,null,null,null,null,null,null,null,{"$f":"IF($CM$4=\"\",\"\",VLOOKUP($CM$4,氏名・生年月日・入卒!$A$6:$AB$105,10))","v":""},{"$f":"IF($CM$4=\"\",\"\",VLOOKUP($CM$4,氏名・生年月日・入卒!$A$6:$AB$105,8))","v":""},{"$f":"IF($CM$4=\"\",\"\",VLOOKUP($CM$4,氏名・生年月日・入卒!$A$6:$AB$105,8))","v":""},{"$f":"IF($CM$4=\"\",\"\",VLOOKUP($CM$4,氏名・生年月日・入卒!$A$6:$AB$105,8))","v":""},{"$f":"IF($CM$4=\"\",\"\",VLOOKUP($CM$4,氏名・生年月日・入卒!$A$6:$AB$105,8))","v":""},{"$f":"IF($CM$4=\"\",\"\",VLOOKUP($CM$4,氏名・生年月日・入卒!$A$6:$AB$105,8))","v":""},{"$f":"IF($CM$4=\"\",\"\",VLOOKUP($CM$4,氏名・生年月日・入卒!$A$6:$AB$105,8))","v":""},null,null,null,null,null,null,null,null,"平成",null,null,null,{"$f":"IF($CM$4=\"\",\"\",VLOOKUP($CM$4,氏名・生年月日・入卒!$A$6:$AB$105,26))","v":""},{"$f":"IF($CM$4=\"\",\"\",VLOOKUP($CM$4,氏名・生年月日・入卒!$A$6:$AB$105,8))","v":""},{"$f":"IF($CM$4=\"\",\"\",VLOOKUP($CM$4,氏名・生年月日・入卒!$A$6:$AB$105,8))","v":""},"年",null,null,{"$f":"IF($CM$4=\"\",\"\",VLOOKUP($CM$4,氏名・生年月日・入卒!$A$6:$AB$105,27))","v":""},{"$f":"IF($CM$4=\"\",\"\",VLOOKUP($CM$4,氏名・生年月日・入卒!$A$6:$AB$105,8))","v":""},{"$f":"IF($CM$4=\"\",\"\",VLOOKUP($CM$4,氏名・生年月日・入卒!$A$6:$AB$105,8))","v":""},"月",null,null,{"$f":"IF($CM$4=\"\",\"\",VLOOKUP($CM$4,氏名・生年月日・入卒!$A$6:$AB$105,28))","v":""},null,null,null,null,null,null,null,null,null,null,null,null,null,null,null,null,"中学校卒業"]
[null,null,null,null,null,null,null,null,null,null,null,null,null,null,null,null,null,null,null,null,null,null,null,null,null,null,{"$f":"IF($CM$4=\"\",\"\",VLOOKUP($CM$4,氏名・生年月日・入卒!$A$6:$AB$105,8))","v":""},{"$f":"IF($CM$4=\"\",\"\",VLOOKUP($CM$4,氏名・生年月日・入卒!$A$6:$AB$105,8))","v":""},{"$f":"IF($CM$4=\"\",\"\",VLOOKUP($CM$4,氏名・生年月日・入卒!$A$6:$AB$105,8))","v":""},{"$f":"IF($CM$4=\"\",\"\",VLOOKUP($CM$4,氏名・生年月日・入卒!$A$6:$AB$105,8))","v":""},{"$f":"IF($CM$4=\"\",\"\",VLOOKUP($CM$4,氏名・生年月日・入卒!$A$6:$AB$105,8))","v":""},{"$f":"IF($CM$4=\"\",\"\",VLOOKUP($CM$4,氏名・生年月日・入卒!$A$6:$AB$105,8))","v":""},{"$f":"IF($CM$4=\"\",\"\",VLOOKUP($CM$4,氏名・生年月日・入卒!$A$6:$AB$105,8))","v":""},null,null,null,null,null,null,null,null,null,null,null,null,{"$f":"IF($CM$4=\"\",\"\",VLOOKUP($CM$4,氏名・生年月日・入卒!$A$6:$AB$105,8))","v":""},{"$f":"IF($CM$4=\"\",\"\",VLOOKUP($CM$4,氏名・生年月日・入卒!$A$6:$AB$105,8))","v":""},{"$f":"IF($CM$4=\"\",\"\",VLOOKUP($CM$4,氏名・生年月日・入卒!$A$6:$AB$105,8))","v":""},null,null,null,{"$f":"IF($CM$4=\"\",\"\",VLOOKUP($CM$4,氏名・生年月日・入卒!$A$6:$AB$105,8))","v":""},{"$f":"IF($CM$4=\"\",\"\",VLOOKUP($CM$4,氏名・生年月日・入卒!$A$6:$AB$105,8))","v":""},{"$f":"IF($CM$4=\"\",\"\",VLOOKUP($CM$4,氏名・生年月日・入卒!$A$6:$AB$105,8))","v":""}]
[null,null,null,null,null,null,null,null,null,null,null,null,null,null,null,null,null,null,null,null,null,null,null,null,null,null,{"$f":"IF($CM$4=\"\",\"\",VLOOKUP($CM$4,氏名・生年月日・入卒!$A$6:$AB$105,8))","v":""},{"$f":"IF($CM$4=\"\",\"\",VLOOKUP($CM$4,氏名・生年月日・入卒!$A$6:$AB$105,8))","v":""},{"$f":"IF($CM$4=\"\",\"\",VLOOKUP($CM$4,氏名・生年月日・入卒!$A$6:$AB$105,8))","v":""},{"$f":"IF($CM$4=\"\",\"\",VLOOKUP($CM$4,氏名・生年月日・入卒!$A$6:$AB$105,8))","v":""},{"$f":"IF($CM$4=\"\",\"\",VLOOKUP($CM$4,氏名・生年月日・入卒!$A$6:$AB$105,8))","v":""},{"$f":"IF($CM$4=\"\",\"\",VLOOKUP($CM$4,氏名・生年月日・入卒!$A$6:$AB$105,8))","v":""},{"$f":"IF($CM$4=\"\",\"\",VLOOKUP($CM$4,氏名・生年月日・入卒!$A$6:$AB$105,8))","v":""},null,null,null,null,null,null,null,null,null,null,null,null,{"$f":"IF($CM$4=\"\",\"\",VLOOKUP($CM$4,氏名・生年月日・入卒!$A$6:$AB$105,8))","v":""},{"$f":"IF($CM$4=\"\",\"\",VLOOKUP($CM$4,氏名・生年月日・入卒!$A$6:$AB$105,8))","v":""},{"$f":"IF($CM$4=\"\",\"\",VLOOKUP($CM$4,氏名・生年月日・入卒!$A$6:$AB$105,8))","v":""},null,null,null,{"$f":"IF($CM$4=\"\",\"\",VLOOKUP($CM$4,氏名・生年月日・入卒!$A$6:$AB$105,8))","v":""},{"$f":"IF($CM$4=\"\",\"\",VLOOKUP($CM$4,氏名・生年月日・入卒!$A$6:$AB$105,8))","v":""},{"$f":"IF($CM$4=\"\",\"\",VLOOKUP($CM$4,氏名・生年月日・入卒!$A$6:$AB$105,8))","v":""}]
[null,null,null,null,null,null,null,null,null,null,null,"学習の記録（評定）",null,null,null,null,null,null,null,null,null,null,null,null,null,null,null,null,null,null,null,null,null,null,null,null,null,null,null,null,null,null,null,null,null,null,null,null,null,null,null,null,null,null,null,null,null,null,null,null,null,null,"保健\n体育",null,null,null,null,null,null,"技術\n家庭",null,null,null,null,null,"外国語（英語）"]
[null,null,null,null,null,null,null,null,null,null,null,null,null,null,"教科",null,null,null,null,null,"国語",null,null,null,null,null,null,"社会",null,null,null,null,null,null,"数学",null,null,null,null,null,null,"理科",null,null,null,null,null,null,"音楽",null,null,null,null,null,null,"美術"]
[]
[]
[]
[null,null,null,null,null,null,null,null,null,null,null,null,null,null,"１年",null,null,null,null,null,null,{"$f":"IF($CM$4=\"\",\"\",VLOOKUP($CM$4,評定!$A$4:$AE$103,5))","v":""},null,null,null,null,null,null,{"$f":"IF($CM$4=\"\",\"\",VLOOKUP($CM$4,評定!$A$4:$AE$103,6))","v":""},null,null,null,null,null,null,{"$f":"IF($CM$4=\"\",\"\",VLOOKUP($CM$4,評定!$A$4:$AE$103,7))","v":""},null,null,null,null,null,null,{"$f":"IF($CM$4=\"\",\"\",VLOOKUP($CM$4,評定!$A$4:$AE$103,8))","v":""},null,null,null,null,null,null,{"$f":"IF($CM$4=\"\",\"\",VLOOKUP($CM$4,評定!$A$4:$AE$103,9))","v":""},null,null,null,null,null,null,{"$f":"IF($CM$4=\"\",\"\",VLOOKUP($CM$4,評定!$A$4:$AE$103,10))","v":""},null,null,null,null,null,null,{"$f":"IF($CM$4=\"\",\"\",VLOOKUP($CM$4,評定!$A$4:$AE$103,11))","v":""},null,null,null,null,null,null,{"$f":"IF($CM$4=\"\",\"\",VLOOKUP($CM$4,評定!$A$4:$AE$103,12))","v":""},null,null,null,null,null,null,{"$f":"IF($CM$4=\"\",\"\",VLOOKUP($CM$4,評定!$A$4:$AE$103,13))","v":""}]
[]
[]
[]
[null,null,null,null,null,null,null,null,null,null,null,null,null,null,"２年",null,null,null,null,null,null,{"$f":"IF($CM$4=\"\",\"\",VLOOKUP($CM$4,評定!$A$4:$AE$103,14))","v":""},null,null,null,null,null,null,{"$f":"IF($CM$4=\"\",\"\",VLOOKUP($CM$4,評定!$A$4:$AE$103,15))","v":""},null,null,null,null,null,null,{"$f":"IF($CM$4=\"\",\"\",VLOOKUP($CM$4,評定!$A$4:$AE$103,16))","v":""},null,null,null,null,null,null,{"$f":"IF($CM$4=\"\",\"\",VLOOKUP($CM$4,評定!$A$4:$AE$103,17))","v":""},null,null,null,null,null,null,{"$f":"IF($CM$4=\"\",\"\",VLOOKUP($CM$4,評定!$A$4:$AE$103,18))","v":""},null,null,null,null,null,null,{"$f":"IF($CM$4=\"\",\"\",VLOOKUP($CM$4,評定!$A$4:$AE$103,19))","v":""},null,null,null,null,null,null,{"$f":"IF($CM$4=\"\",\"\",VLOOKUP($CM$4,評定!$A$4:$AE$103,20))","v":""},null,null,null,null,null,null,{"$f":"IF($CM$4=\"\",\"\",VLOOKUP($CM$4,評定!$A$4:$AE$103,21))","v":""},null,null,null,null,null,null,{"$f":"IF($CM$4=\"\",\"\",VLOOKUP($CM$4,評定!$A$4:$AE$103,22))","v":""}]
[]
[]
[null,null,null,null,null,null,null,null,null,null,null,null,null,null,null,null,null,null,null,null,null,null,null,null,null,null,null,null,null,null,null,null,null,null,null,null,null,null,null,null,null,null,null,null,null,null,null,null,null,null,null,null,null,null,null,null,null,null,null,null,null,null,null,null,null,null,null,null,null,null,null,null,null,null,null,null,null,null,null,null,null,null,null,null,null,null,null,null,null,null,null,null,{"$f":"IF($CI$2=\"\",\"\",VLOOKUP($CI$2,[2]評定入力!$A$4:$AJ$103,6))","v":""}]
[null,null,null,null,null,null,null,null,null,null,null,null,null,null,"３年",null,null,null,null,null,null,{"$f":"IF($CM$4=\"\",\"\",VLOOKUP($CM$4,評定!$A$4:$AE$103,23))","v":""},null,null,null,null,null,null,{"$f":"IF($CM$4=\"\",\"\",VLOOKUP($CM$4,評定!$A$4:$AE$103,24))","v":""},null,null,null,null,null,null,{"$f":"IF($CM$4=\"\",\"\",VLOOKUP($CM$4,評定!$A$4:$AE$103,25))","v":""},null,null,null,null,null,null,{"$f":"IF($CM$4=\"\",\"\",VLOOKUP($CM$4,評定!$A$4:$AE$103,26))","v":""},null,null,null,null,null,null,{"$f":"IF($CM$4=\"\",\"\",VLOOKUP($CM$4,評定!$A$4:$AE$103,27))","v":""},null,null,null,null,null,null,{"$f":"IF($CM$4=\"\",\"\",VLOOKUP($CM$4,評定!$A$4:$AE$103,28))","v":""},null,null,null,null,null,null,{"$f":"IF($CM$4=\"\",\"\",VLOOKUP($CM$4,評定!$A$4:$AE$103,29))","v":""},null,null,null,null,null,null,{"$f":"IF($CM$4=\"\",\"\",VLOOKUP($CM$4,評定!$A$4:$AE$103,30))","v":""},null,null,null,null,null,null,{"$f":"IF($CM$4=\"\",\"\",VLOOKUP($CM$4,評定!$A$4:$AE$103,31))","v":""}]
[]
[]
[]
[null,null,null,null,null,null,null,null,null,null,null,"出欠状況等",null,null,"学年",null,null,null,null,null,"欠席",null,null,null,null,null,null,"遅刻",null,null,null,null,null,null,"早退",null,null,null,null,null,null,"欠席・遅刻・早退の主な理由"]
[]
[]
[null,null,null,null,null,null,null,null,null,null,null,null,null,null,null,null,null,null,null,null,null,null,null,null,null,null,null,null,null,null,null,null,null,null,null,null,null,null,null,null,null,null,null,null,null,null,null,null,null,null,null,null,null,null,null,null,null,null,null,null,null,null,null,null,null,null,null,null,null,null,null,null,null,null,null,null,null,null,null,null,null,null,null,null,null,null,null,{"$f":"IF($CI$2=\"\",\"\",VLOOKUP($CI$2,[2]欠席入力!$A$4:$J$103,5))","v":""}]
[null,null,null,null,null,null,null,null,null,null,null,null,null,null,"１年",null,null,null,null,null,{"$f":"IF($CM$4=\"\",\"\",VLOOKUP($CM$4,欠席・遅刻・早退!$A$3:$P$102,5))","v":""},null,null,null,null,null,null,{"$f":"IF($CM$4=\"\",\"\",VLOOKUP($CM$4,欠席・遅刻・早退!$A$3:$P$102,6))","v":""},null,null,null,null,null,null,{"$f":"IF($CM$4=\"\",\"\",VLOOKUP($CM$4,欠席・遅刻・早退!$A$3:$P$102,7))","v":""},null,null,null,null,null,null,{"$f":"IF($CM$4=\"\",\"\",VLOOKUP($CM$4,欠席・遅刻・早退!$A$3:$P$102,8))","v":""}]
[]
[]
[]
[null,null,null,null,null,null,null,null,null,null,null,null,null,null,"２年",null,null,null,null,null,{"$f":"IF($CM$4=\"\",\"\",VLOOKUP($CM$4,欠席・遅刻・早退!$A$3:$P$102,9))","v":""},null,null,null,null,null,null,{"$f":"IF($CM$4=\"\",\"\",VLOOKUP($CM$4,欠席・遅刻・早退!$A$3:$P$102,10))","v":""},null,null,null,null,null,null,{"$f":"IF($CM$4=\"\",\"\",VLOOKUP($CM$4,欠席・遅刻・早退!$A$3:$P$102,11))","v":""},null,null,null,null,null,null,{"$f":"IF($CM$4=\"\",\"\",VLOOKUP($CM$4,欠席・遅刻・早退!$A$3:$P$102,12))","v":""}]
[]
[]
[]
[null,null,null,null,null,null,null,null,null,null,null,null,null,null,"３年",null,null,null,null,null,{"$f":"IF($CM$4=\"\",\"\",VLOOKUP($CM$4,欠席・遅刻・早退!$A$3:$P$102,13))","v":""},null,null,null,null,null,null,{"$f":"IF($CM$4=\"\",\"\",VLOOKUP($CM$4,欠席・遅刻・早退!$A$3:$P$102,14))","v":""},null,null,null,null,null,null,{"$f":"IF($CM$4=\"\",\"\",VLOOKUP($CM$4,欠席・遅刻・早退!$A$3:$P$102,15))","v":""},null,null,null,null,null,null,{"$f":"IF($CM$4=\"\",\"\",VLOOKUP($CM$4,欠席・遅刻・早退!$A$3:$P$102,16))","v":""}]
[]
[]
[]
[null,null,null,null,null,null,null,null,null,null,null,"健康状態",null,null,null,null,null,null,null,null,{"$f":"IF($CM$4=\"\",\"\",VLOOKUP($CM$4,健康・特活・所見!$A$3:$G$102,5))","v":""}]
[]
[]
[]
[]
[]
[null,null,null,null,null,null,null,null,null,null,null,"特別活動\n等の記録",null,null,null,null,null,null,null,null,{"$f":"IF($CM$4=\"\",\"\",VLOOKUP($CM$4,健康・特活・所見!$A$3:$G$102,6))","v":""}]
[]
[]
[]
[]
[]
[]
[]
[]
[]
[]
[null,null,null,null,null,null,null,null,null,null,null,"担任所見　および　　　指導上の　参考事項",null,null,null,null,null,null,null,null,{"$f":"IF($CM$4=\"\",\"\",VLOOKUP($CM$4,健康・特活・所見!$A$3:$G$102,7))","v":""}]
[]
[]
[]
[]
[]
[]
[]
[]
[]
[null,null,null,null,null,null,null,null,null,null,null,null,null,null,null,null,null,null,null,null,null,null,null,null,null,null,null,null,null,null,null,null,null,null,null,null,null,null,null,null,null,null,null,"記載責任者",null,null,null,null,null,null,null,null,null,null,null,null,null,null,null,null,null,null,null,null,null,null,null,null,null,null,null,null,null,null,null,null,null,null,"㊞"]
[null,null,null,null,null,null,null,null,null,null,null,"国語",null,null,null,"数学",null,null,null,"英語",null,null,null,"社会",null,null,null,"理科",null,null,null,"※",null,null,null,"※",null,null,null,null,null,null,null,null,null,null,null,null,null,null,null,null,null,{"$f":"IF(中学校名!#REF!=\"\",\"\",中学校名!#REF!)","v":{"$error":"#REF!"}},{"$f":"IF($CM$4=\"\",\"\",VLOOKUP($CM$4,氏名・生年月日・入卒!$A$6:$AB$105,19))","v":""}]
[]
[null,null,null,null,null,null,null,null,null,null,null,"※",null,null,null,"※",null,null,null,"※",null,null,null,"※",null,null,null,"※"]
[]
[]
[null,null,null,null,null,null,null,null,null,null,null,null,null,null,null,null,null,null,null,null,null,null,null,null,null,null,null,null,null,null,null,null,null,null,null,null,null,null,null,null,"※印の欄には記入しないで下さい。"]

{"sheet":"受験学科・専願","index":7,"n_rows":104,"n_cols":16,"rows_kept":104,"cut":false,"hidden":false,"merged":[[2,14,5,16],[7,14,9,16],[11,14,13,16],[0,0,0,12],[1,2,2,2],[1,7,1,9],[1,10,1,11],[1,12,2,12],[1,4,1,5],[1,6,2,6],[1,3,2,3],[1,1,2,1],[1,0,2,0]]}
["平成３１年度　尚志館高等学校受験者名簿"]
["番号","中学校名","組","担任氏名","志　願　者",null,"性別","生年月日",null,null,"受験学科",null,"専　 願\n受験者"]
[null,null,null,null,"氏　　名","ふりがな",null,"年","月","日","第1志望","第2志望",null,null,"①志願者全員分の第１志望と第２志望と専願受験の有無をプルダウンリストから選択していください。"]
[null,"私立尚志館中学校",1,"○○　○○","尚志館　太郎","しょうしかん　たろう","男",13,10,10,"特　　進","普　　通","専"]
[1,{"$f":"IF(G5=\"\",\"\",中学校名!$D$10)","v":""},{"$f":"氏名・生年月日・入卒!B6&\"\"","v":""},{"$f":"氏名・生年月日・入卒!$S6&\"\"","v":""},{"$f":"氏名・生年月日・入卒!$D6&\"\"","v":""},{"$f":"氏名・生年月日・入卒!$E6&\"\"","v":""},{"$f":"氏名・生年月日・入卒!$J6","v":""},{"$f":"氏名・生年月日・入卒!$F6&\"\"","v":""},{"$f":"氏名・生年月日・入卒!$G6&\"\"","v":""},{"$f":"氏名・生年月日・入卒!$H6&\"\"","v":""},"特　　進","普　　通","第2志望でも専"]
[2,{"$f":"IF(G6=\"\",\"\",中学校名!$D$10)","v":""},{"$f":"氏名・生年月日・入卒!B7&\"\"","v":""},{"$f":"氏名・生年月日・入卒!$S7&\"\"","v":""},{"$f":"氏名・生年月日・入卒!$D7&\"\"","v":""},{"$f":"氏名・生年月日・入卒!$E7&\"\"","v":""},{"$f":"氏名・生年月日・入卒!$J7","v":""},{"$f":"氏名・生年月日・入卒!$F7&\"\"","v":""},{"$f":"氏名・生年月日・入卒!$G7&\"\"","v":""},{"$f":"氏名・生年月日・入卒!$H7&\"\"","v":""}]
[3,{"$f":"IF(G7=\"\",\"\",中学校名!$D$10)","v":""},{"$f":"氏名・生年月日・入卒!B8&\"\"","v":""},{"$f":"氏名・生年月日・入卒!$S8&\"\"","v":""},{"$f":"氏名・生年月日・入卒!$D8&\"\"","v":""},{"$f":"氏名・生年月日・入卒!$E8&\"\"","v":""},{"$f":"氏名・生年月日・入卒!$J8","v":""},{"$f":"氏名・生年月日・入卒!$F8&\"\"","v":""},{"$f":"氏名・生年月日・入卒!$G8&\"\"","v":""},{"$f":"氏名・生年月日・入卒!$H8&\"\"","v":""}]
[4,{"$f":"IF(G8=\"\",\"\",中学校名!$D$10)","v":""},{"$f":"氏名・生年月日・入卒!B9&\"\"","v":""},{"$f":"氏名・生年月日・入卒!$S9&\"\"","v":""},{"$f":"氏名・生年月日・入卒!$D9&\"\"","v":""},{"$f":"氏名・生年月日・入卒!$E9&\"\"","v":""},{"$f":"氏名・生年月日・入卒!$J9","v":""},{"$f":"氏名・生年月日・入卒!$F9&\"\"","v":""},{"$f":"氏名・生年月日・入卒!$G9&\"\"","v":""},{"$f":"氏名・生年月日・入卒!$H9&\"\"","v":""},null,null,null,null,"②入力が終わりましたら、ファイル名「namelist.xls」にデータが反映されているかを確認してください。"]
[5,{"$f":"IF(G9=\"\",\"\",中学校名!$D$10)","v":""},{"$f":"氏名・生年月日・入卒!B10&\"\"","v":""},{"$f":"氏名・生年月日・入卒!$S10&\"\"","v":""},{"$f":"氏名・生年月日・入卒!$D10&\"\"","v":""},{"$f":"氏名・生年月日・入卒!$E10&\"\"","v":""},{"$f":"氏名・生年月日・入卒!$J10","v":""},{"$f":"氏名・生年月日・入卒!$F10&\"\"","v":""},{"$f":"氏名・生年月日・入卒!$G10&\"\"","v":""},{"$f":"氏名・生年月日・入卒!$H10&\"\"","v":""}]
[6,{"$f":"IF(G10=\"\",\"\",中学校名!$D$10)","v":""},{"$f":"氏名・生年月日・入卒!B11&\"\"","v":""},{"$f":"氏名・生年月日・入卒!$S11&\"\"","v":""},{"$f":"氏名・生年月日・入卒!$D11&\"\"","v":""},{"$f":"氏名・生年月日・入卒!$E11&\"\"","v":""},{"$f":"氏名・生年月日・入卒!$J11","v":""},{"$f":"氏名・生年月日・入卒!$F11&\"\"","v":""},{"$f":"氏名・生年月日・入卒!$G11&\"\"","v":""},{"$f":"氏名・生年月日・入卒!$H11&\"\"","v":""}]
[7,{"$f":"IF(G11=\"\",\"\",中学校名!$D$10)","v":""},{"$f":"氏名・生年月日・入卒!B12&\"\"","v":""},{"$f":"氏名・生年月日・入卒!$S12&\"\"","v":""},{"$f":"氏名・生年月日・入卒!$D12&\"\"","v":""},{"$f":"氏名・生年月日・入卒!$E12&\"\"","v":""},{"$f":"氏名・生年月日・入卒!$J12","v":""},{"$f":"氏名・生年月日・入卒!$F12&\"\"","v":""},{"$f":"氏名・生年月日・入卒!$G12&\"\"","v":""},{"$f":"氏名・生年月日・入卒!$H12&\"\"","v":""}]
[8,{"$f":"IF(G12=\"\",\"\",中学校名!$D$10)","v":""},{"$f":"氏名・生年月日・入卒!B13&\"\"","v":""},{"$f":"氏名・生年月日・入卒!$S13&\"\"","v":""},{"$f":"氏名・生年月日・入卒!$D13&\"\"","v":""},{"$f":"氏名・生年月日・入卒!$E13&\"\"","v":""},{"$f":"氏名・生年月日・入卒!$J13","v":""},{"$f":"氏名・生年月日・入卒!$F13&\"\"","v":""},{"$f":"氏名・生年月日・入卒!$G13&\"\"","v":""},{"$f":"氏名・生年月日・入卒!$H13&\"\"","v":""},null,null,null,null,"③データは受付処理に使用するため、namelistの前に貴校名を記入し、下記アドレスまで出願手続きに来られる前に送信してください。"]
[9,{"$f":"IF(G13=\"\",\"\",中学校名!$D$10)","v":""},{"$f":"氏名・生年月日・入卒!B14&\"\"","v":""},{"$f":"氏名・生年月日・入卒!$S14&\"\"","v":""},{"$f":"氏名・生年月日・入卒!$D14&\"\"","v":""},{"$f":"氏名・生年月日・入卒!$E14&\"\"","v":""},{"$f":"氏名・生年月日・入卒!$J14","v":""},{"$f":"氏名・生年月日・入卒!$F14&\"\"","v":""},{"$f":"氏名・生年月日・入卒!$G14&\"\"","v":""},{"$f":"氏名・生年月日・入卒!$H14&\"\"","v":""}]
[10,{"$f":"IF(G14=\"\",\"\",中学校名!$D$10)","v":""},{"$f":"氏名・生年月日・入卒!B15&\"\"","v":""},{"$f":"氏名・生年月日・入卒!$S15&\"\"","v":""},{"$f":"氏名・生年月日・入卒!$D15&\"\"","v":""},{"$f":"氏名・生年月日・入卒!$E15&\"\"","v":""},{"$f":"氏名・生年月日・入卒!$J15","v":""},{"$f":"氏名・生年月日・入卒!$F15&\"\"","v":""},{"$f":"氏名・生年月日・入卒!$G15&\"\"","v":""},{"$f":"氏名・生年月日・入卒!$H15&\"\"","v":""}]
[11,{"$f":"IF(G15=\"\",\"\",中学校名!$D$10)","v":""},{"$f":"氏名・生年月日・入卒!B16&\"\"","v":""},{"$f":"氏名・生年月日・入卒!$S16&\"\"","v":""},{"$f":"氏名・生年月日・入卒!$D16&\"\"","v":""},{"$f":"氏名・生年月日・入卒!$E16&\"\"","v":""},{"$f":"氏名・生年月日・入卒!$J16","v":""},{"$f":"氏名・生年月日・入卒!$F16&\"\"","v":""},{"$f":"氏名・生年月日・入卒!$G16&\"\"","v":""},{"$f":"氏名・生年月日・入卒!$H16&\"\"","v":""},null,null,null,null,"zim-ksh@ac.auone-net.jp"]
[12,{"$f":"IF(G16=\"\",\"\",中学校名!$D$10)","v":""},{"$f":"氏名・生年月日・入卒!B17&\"\"","v":""},{"$f":"氏名・生年月日・入卒!$S17&\"\"","v":""},{"$f":"氏名・生年月日・入卒!$D17&\"\"","v":""},{"$f":"氏名・生年月日・入卒!$E17&\"\"","v":""},{"$f":"氏名・生年月日・入卒!$J17","v":""},{"$f":"氏名・生年月日・入卒!$F17&\"\"","v":""},{"$f":"氏名・生年月日・入卒!$G17&\"\"","v":""},{"$f":"氏名・生年月日・入卒!$H17&\"\"","v":""}]
[13,{"$f":"IF(G17=\"\",\"\",中学校名!$D$10)","v":""},{"$f":"氏名・生年月日・入卒!B18&\"\"","v":""},{"$f":"氏名・生年月日・入卒!$S18&\"\"","v":""},{"$f":"氏名・生年月日・入卒!$D18&\"\"","v":""},{"$f":"氏名・生年月日・入卒!$E18&\"\"","v":""},{"$f":"氏名・生年月日・入卒!$J18","v":""},{"$f":"氏名・生年月日・入卒!$F18&\"\"","v":""},{"$f":"氏名・生年月日・入卒!$G18&\"\"","v":""},{"$f":"氏名・生年月日・入卒!$H18&\"\"","v":""},null,null,null,null,"特　　進","専"]
[14,{"$f":"IF(G18=\"\",\"\",中学校名!$D$10)","v":""},{"$f":"氏名・生年月日・入卒!B19&\"\"","v":""},{"$f":"氏名・生年月日・入卒!$S19&\"\"","v":""},{"$f":"氏名・生年月日・入卒!$D19&\"\"","v":""},{"$f":"氏名・生年月日・入卒!$E19&\"\"","v":""},{"$f":"氏名・生年月日・入卒!$J19","v":""},{"$f":"氏名・生年月日・入卒!$F19&\"\"","v":""},{"$f":"氏名・生年月日・入卒!$G19&\"\"","v":""},{"$f":"氏名・生年月日・入卒!$H19&\"\"","v":""},null,null,null,null,"普　　通","第2志望でも専"]
[15,{"$f":"IF(G19=\"\",\"\",中学校名!$D$10)","v":""},{"$f":"氏名・生年月日・入卒!B20&\"\"","v":""},{"$f":"氏名・生年月日・入卒!$S20&\"\"","v":""},{"$f":"氏名・生年月日・入卒!$D20&\"\"","v":""},{"$f":"氏名・生年月日・入卒!$E20&\"\"","v":""},{"$f":"氏名・生年月日・入卒!$J20","v":""},{"$f":"氏名・生年月日・入卒!$F20&\"\"","v":""},{"$f":"氏名・生年月日・入卒!$G20&\"\"","v":""},{"$f":"氏名・生年月日・入卒!$H20&\"\"","v":""},null,null,null,null,"商　　業"]
[16,{"$f":"IF(G20=\"\",\"\",中学校名!$D$10)","v":""},{"$f":"氏名・生年月日・入卒!B21&\"\"","v":""},{"$f":"氏名・生年月日・入卒!$S21&\"\"","v":""},{"$f":"氏名・生年月日・入卒!$D21&\"\"","v":""},{"$f":"氏名・生年月日・入卒!$E21&\"\"","v":""},{"$f":"氏名・生年月日・入卒!$J21","v":""},{"$f":"氏名・生年月日・入卒!$F21&\"\"","v":""},{"$f":"氏名・生年月日・入卒!$G21&\"\"","v":""},{"$f":"氏名・生年月日・入卒!$H21&\"\"","v":""},null,null,null,null,"建設工業"]
[17,{"$f":"IF(G21=\"\",\"\",中学校名!$D$10)","v":""},{"$f":"氏名・生年月日・入卒!B22&\"\"","v":""},{"$f":"氏名・生年月日・入卒!$S22&\"\"","v":""},{"$f":"氏名・生年月日・入卒!$D22&\"\"","v":""},{"$f":"氏名・生年月日・入卒!$E22&\"\"","v":""},{"$f":"氏名・生年月日・入卒!$J22","v":""},{"$f":"氏名・生年月日・入卒!$F22&\"\"","v":""},{"$f":"氏名・生年月日・入卒!$G22&\"\"","v":""},{"$f":"氏名・生年月日・入卒!$H22&\"\"","v":""},null,null,null,null,"医療福祉"]
[18,{"$f":"IF(G22=\"\",\"\",中学校名!$D$10)","v":""},{"$f":"氏名・生年月日・入卒!B23&\"\"","v":""},{"$f":"氏名・生年月日・入卒!$S23&\"\"","v":""},{"$f":"氏名・生年月日・入卒!$D23&\"\"","v":""},{"$f":"氏名・生年月日・入卒!$E23&\"\"","v":""},{"$f":"氏名・生年月日・入卒!$J23","v":""},{"$f":"氏名・生年月日・入卒!$F23&\"\"","v":""},{"$f":"氏名・生年月日・入卒!$G23&\"\"","v":""},{"$f":"氏名・生年月日・入卒!$H23&\"\"","v":""},null,null,null,null,"看 護 学"]
[19,{"$f":"IF(G23=\"\",\"\",中学校名!$D$10)","v":""},{"$f":"氏名・生年月日・入卒!B24&\"\"","v":""},{"$f":"氏名・生年月日・入卒!$S24&\"\"","v":""},{"$f":"氏名・生年月日・入卒!$D24&\"\"","v":""},{"$f":"氏名・生年月日・入卒!$E24&\"\"","v":""},{"$f":"氏名・生年月日・入卒!$J24","v":""},{"$f":"氏名・生年月日・入卒!$F24&\"\"","v":""},{"$f":"氏名・生年月日・入卒!$G24&\"\"","v":""},{"$f":"氏名・生年月日・入卒!$H24&\"\"","v":""}]
[20,{"$f":"IF(G24=\"\",\"\",中学校名!$D$10)","v":""},{"$f":"氏名・生年月日・入卒!B25&\"\"","v":""},{"$f":"氏名・生年月日・入卒!$S25&\"\"","v":""},{"$f":"氏名・生年月日・入卒!$D25&\"\"","v":""},{"$f":"氏名・生年月日・入卒!$E25&\"\"","v":""},{"$f":"氏名・生年月日・入卒!$J25","v":""},{"$f":"氏名・生年月日・入卒!$F25&\"\"","v":""},{"$f":"氏名・生年月日・入卒!$G25&\"\"","v":""},{"$f":"氏名・生年月日・入卒!$H25&\"\"","v":""}]
[21,{"$f":"IF(G25=\"\",\"\",中学校名!$D$10)","v":""},{"$f":"氏名・生年月日・入卒!B26&\"\"","v":""},{"$f":"氏名・生年月日・入卒!$S26&\"\"","v":""},{"$f":"氏名・生年月日・入卒!$D26&\"\"","v":""},{"$f":"氏名・生年月日・入卒!$E26&\"\"","v":""},{"$f":"氏名・生年月日・入卒!$J26","v":""},{"$f":"氏名・生年月日・入卒!$F26&\"\"","v":""},{"$f":"氏名・生年月日・入卒!$G26&\"\"","v":""},{"$f":"氏名・生年月日・入卒!$H26&\"\"","v":""}]
[22,{"$f":"IF(G26=\"\",\"\",中学校名!$D$10)","v":""},{"$f":"氏名・生年月日・入卒!B27&\"\"","v":""},{"$f":"氏名・生年月日・入卒!$S27&\"\"","v":""},{"$f":"氏名・生年月日・入卒!$D27&\"\"","v":""},{"$f":"氏名・生年月日・入卒!$E27&\"\"","v":""},{"$f":"氏名・生年月日・入卒!$J27","v":""},{"$f":"氏名・生年月日・入卒!$F27&\"\"","v":""},{"$f":"氏名・生年月日・入卒!$G27&\"\"","v":""},{"$f":"氏名・生年月日・入卒!$H27&\"\"","v":""}]
[23,{"$f":"IF(G27=\"\",\"\",中学校名!$D$10)","v":""},{"$f":"氏名・生年月日・入卒!B28&\"\"","v":""},{"$f":"氏名・生年月日・入卒!$S28&\"\"","v":""},{"$f":"氏名・生年月日・入卒!$D28&\"\"","v":""},{"$f":"氏名・生年月日・入卒!$E28&\"\"","v":""},{"$f":"氏名・生年月日・入卒!$J28","v":""},{"$f":"氏名・生年月日・入卒!$F28&\"\"","v":""},{"$f":"氏名・生年月日・入卒!$G28&\"\"","v":""},{"$f":"氏名・生年月日・入卒!$H28&\"\"","v":""}]
[24,{"$f":"IF(G28=\"\",\"\",中学校名!$D$10)","v":""},{"$f":"氏名・生年月日・入卒!B29&\"\"","v":""},{"$f":"氏名・生年月日・入卒!$S29&\"\"","v":""},{"$f":"氏名・生年月日・入卒!$D29&\"\"","v":""},{"$f":"氏名・生年月日・入卒!$E29&\"\"","v":""},{"$f":"氏名・生年月日・入卒!$J29","v":""},{"$f":"氏名・生年月日・入卒!$F29&\"\"","v":""},{"$f":"氏名・生年月日・入卒!$G29&\"\"","v":""},{"$f":"氏名・生年月日・入卒!$H29&\"\"","v":""}]
[25,{"$f":"IF(G29=\"\",\"\",中学校名!$D$10)","v":""},{"$f":"氏名・生年月日・入卒!B30&\"\"","v":""},{"$f":"氏名・生年月日・入卒!$S30&\"\"","v":""},{"$f":"氏名・生年月日・入卒!$D30&\"\"","v":""},{"$f":"氏名・生年月日・入卒!$E30&\"\"","v":""},{"$f":"氏名・生年月日・入卒!$J30","v":""},{"$f":"氏名・生年月日・入卒!$F30&\"\"","v":""},{"$f":"氏名・生年月日・入卒!$G30&\"\"","v":""},{"$f":"氏名・生年月日・入卒!$H30&\"\"","v":""}]
[26,{"$f":"IF(G30=\"\",\"\",中学校名!$D$10)","v":""},{"$f":"氏名・生年月日・入卒!B31&\"\"","v":""},{"$f":"氏名・生年月日・入卒!$S31&\"\"","v":""},{"$f":"氏名・生年月日・入卒!$D31&\"\"","v":""},{"$f":"氏名・生年月日・入卒!$E31&\"\"","v":""},{"$f":"氏名・生年月日・入卒!$J31","v":""},{"$f":"氏名・生年月日・入卒!$F31&\"\"","v":""},{"$f":"氏名・生年月日・入卒!$G31&\"\"","v":""},{"$f":"氏名・生年月日・入卒!$H31&\"\"","v":""}]
[27,{"$f":"IF(G31=\"\",\"\",中学校名!$D$10)","v":""},{"$f":"氏名・生年月日・入卒!B32&\"\"","v":""},{"$f":"氏名・生年月日・入卒!$S32&\"\"","v":""},{"$f":"氏名・生年月日・入卒!$D32&\"\"","v":""},{"$f":"氏名・生年月日・入卒!$E32&\"\"","v":""},{"$f":"氏名・生年月日・入卒!$J32","v":""},{"$f":"氏名・生年月日・入卒!$F32&\"\"","v":""},{"$f":"氏名・生年月日・入卒!$G32&\"\"","v":""},{"$f":"氏名・生年月日・入卒!$H32&\"\"","v":""}]
[28,{"$f":"IF(G32=\"\",\"\",中学校名!$D$10)","v":""},{"$f":"氏名・生年月日・入卒!B33&\"\"","v":""},{"$f":"氏名・生年月日・入卒!$S33&\"\"","v":""},{"$f":"氏名・生年月日・入卒!$D33&\"\"","v":""},{"$f":"氏名・生年月日・入卒!$E33&\"\"","v":""},{"$f":"氏名・生年月日・入卒!$J33","v":""},{"$f":"氏名・生年月日・入卒!$F33&\"\"","v":""},{"$f":"氏名・生年月日・入卒!$G33&\"\"","v":""},{"$f":"氏名・生年月日・入卒!$H33&\"\"","v":""}]
[29,{"$f":"IF(G33=\"\",\"\",中学校名!$D$10)","v":""},{"$f":"氏名・生年月日・入卒!B34&\"\"","v":""},{"$f":"氏名・生年月日・入卒!$S34&\"\"","v":""},{"$f":"氏名・生年月日・入卒!$D34&\"\"","v":""},{"$f":"氏名・生年月日・入卒!$E34&\"\"","v":""},{"$f":"氏名・生年月日・入卒!$J34","v":""},{"$f":"氏名・生年月日・入卒!$F34&\"\"","v":""},{"$f":"氏名・生年月日・入卒!$G34&\"\"","v":""},{"$f":"氏名・生年月日・入卒!$H34&\"\"","v":""}]
[30,{"$f":"IF(G34=\"\",\"\",中学校名!$D$10)","v":""},{"$f":"氏名・生年月日・入卒!B35&\"\"","v":""},{"$f":"氏名・生年月日・入卒!$S35&\"\"","v":""},{"$f":"氏名・生年月日・入卒!$D35&\"\"","v":""},{"$f":"氏名・生年月日・入卒!$E35&\"\"","v":""},{"$f":"氏名・生年月日・入卒!$J35","v":""},{"$f":"氏名・生年月日・入卒!$F35&\"\"","v":""},{"$f":"氏名・生年月日・入卒!$G35&\"\"","v":""},{"$f":"氏名・生年月日・入卒!$H35&\"\"","v":""}]
[31,{"$f":"IF(G35=\"\",\"\",中学校名!$D$10)","v":""},{"$f":"氏名・生年月日・入卒!B36&\"\"","v":""},{"$f":"氏名・生年月日・入卒!$S36&\"\"","v":""},{"$f":"氏名・生年月日・入卒!$D36&\"\"","v":""},{"$f":"氏名・生年月日・入卒!$E36&\"\"","v":""},{"$f":"氏名・生年月日・入卒!$J36","v":""},{"$f":"氏名・生年月日・入卒!$F36&\"\"","v":""},{"$f":"氏名・生年月日・入卒!$G36&\"\"","v":""},{"$f":"氏名・生年月日・入卒!$H36&\"\"","v":""}]
[32,{"$f":"IF(G36=\"\",\"\",中学校名!$D$10)","v":""},{"$f":"氏名・生年月日・入卒!B37&\"\"","v":""},{"$f":"氏名・生年月日・入卒!$S37&\"\"","v":""},{"$f":"氏名・生年月日・入卒!$D37&\"\"","v":""},{"$f":"氏名・生年月日・入卒!$E37&\"\"","v":""},{"$f":"氏名・生年月日・入卒!$J37","v":""},{"$f":"氏名・生年月日・入卒!$F37&\"\"","v":""},{"$f":"氏名・生年月日・入卒!$G37&\"\"","v":""},{"$f":"氏名・生年月日・入卒!$H37&\"\"","v":""}]
[33,{"$f":"IF(G37=\"\",\"\",中学校名!$D$10)","v":""},{"$f":"氏名・生年月日・入卒!B38&\"\"","v":""},{"$f":"氏名・生年月日・入卒!$S38&\"\"","v":""},{"$f":"氏名・生年月日・入卒!$D38&\"\"","v":""},{"$f":"氏名・生年月日・入卒!$E38&\"\"","v":""},{"$f":"氏名・生年月日・入卒!$J38","v":""},{"$f":"氏名・生年月日・入卒!$F38&\"\"","v":""},{"$f":"氏名・生年月日・入卒!$G38&\"\"","v":""},{"$f":"氏名・生年月日・入卒!$H38&\"\"","v":""}]
[34,{"$f":"IF(G38=\"\",\"\",中学校名!$D$10)","v":""},{"$f":"氏名・生年月日・入卒!B39&\"\"","v":""},{"$f":"氏名・生年月日・入卒!$S39&\"\"","v":""},{"$f":"氏名・生年月日・入卒!$D39&\"\"","v":""},{"$f":"氏名・生年月日・入卒!$E39&\"\"","v":""},{"$f":"氏名・生年月日・入卒!$J39","v":""},{"$f":"氏名・生年月日・入卒!$F39&\"\"","v":""},{"$f":"氏名・生年月日・入卒!$G39&\"\"","v":""},{"$f":"氏名・生年月日・入卒!$H39&\"\"","v":""}]
[35,{"$f":"IF(G39=\"\",\"\",中学校名!$D$10)","v":""},{"$f":"氏名・生年月日・入卒!B40&\"\"","v":""},{"$f":"氏名・生年月日・入卒!$S40&\"\"","v":""},{"$f":"氏名・生年月日・入卒!$D40&\"\"","v":""},{"$f":"氏名・生年月日・入卒!$E40&\"\"","v":""},{"$f":"氏名・生年月日・入卒!$J40","v":""},{"$f":"氏名・生年月日・入卒!$F40&\"\"","v":""},{"$f":"氏名・生年月日・入卒!$G40&\"\"","v":""},{"$f":"氏名・生年月日・入卒!$H40&\"\"","v":""}]
[36,{"$f":"IF(G40=\"\",\"\",中学校名!$D$10)","v":""},{"$f":"氏名・生年月日・入卒!B41&\"\"","v":""},{"$f":"氏名・生年月日・入卒!$S41&\"\"","v":""},{"$f":"氏名・生年月日・入卒!$D41&\"\"","v":""},{"$f":"氏名・生年月日・入卒!$E41&\"\"","v":""},{"$f":"氏名・生年月日・入卒!$J41","v":""},{"$f":"氏名・生年月日・入卒!$F41&\"\"","v":""},{"$f":"氏名・生年月日・入卒!$G41&\"\"","v":""},{"$f":"氏名・生年月日・入卒!$H41&\"\"","v":""}]
[37,{"$f":"IF(G41=\"\",\"\",中学校名!$D$10)","v":""},{"$f":"氏名・生年月日・入卒!B42&\"\"","v":""},{"$f":"氏名・生年月日・入卒!$S42&\"\"","v":""},{"$f":"氏名・生年月日・入卒!$D42&\"\"","v":""},{"$f":"氏名・生年月日・入卒!$E42&\"\"","v":""},{"$f":"氏名・生年月日・入卒!$J42","v":""},{"$f":"氏名・生年月日・入卒!$F42&\"\"","v":""},{"$f":"氏名・生年月日・入卒!$G42&\"\"","v":""},{"$f":"氏名・生年月日・入卒!$H42&\"\"","v":""}]
[38,{"$f":"IF(G42=\"\",\"\",中学校名!$D$10)","v":""},{"$f":"氏名・生年月日・入卒!B43&\"\"","v":""},{"$f":"氏名・生年月日・入卒!$S43&\"\"","v":""},{"$f":"氏名・生年月日・入卒!$D43&\"\"","v":""},{"$f":"氏名・生年月日・入卒!$E43&\"\"","v":""},{"$f":"氏名・生年月日・入卒!$J43","v":""},{"$f":"氏名・生年月日・入卒!$F43&\"\"","v":""},{"$f":"氏名・生年月日・入卒!$G43&\"\"","v":""},{"$f":"氏名・生年月日・入卒!$H43&\"\"","v":""}]
[39,{"$f":"IF(G43=\"\",\"\",中学校名!$D$10)","v":""},{"$f":"氏名・生年月日・入卒!B44&\"\"","v":""},{"$f":"氏名・生年月日・入卒!$S44&\"\"","v":""},{"$f":"氏名・生年月日・入卒!$D44&\"\"","v":""},{"$f":"氏名・生年月日・入卒!$E44&\"\"","v":""},{"$f":"氏名・生年月日・入卒!$J44","v":""},{"$f":"氏名・生年月日・入卒!$F44&\"\"","v":""},{"$f":"氏名・生年月日・入卒!$G44&\"\"","v":""},{"$f":"氏名・生年月日・入卒!$H44&\"\"","v":""}]
[40,{"$f":"IF(G44=\"\",\"\",中学校名!$D$10)","v":""},{"$f":"氏名・生年月日・入卒!B45&\"\"","v":""},{"$f":"氏名・生年月日・入卒!$S45&\"\"","v":""},{"$f":"氏名・生年月日・入卒!$D45&\"\"","v":""},{"$f":"氏名・生年月日・入卒!$E45&\"\"","v":""},{"$f":"氏名・生年月日・入卒!$J45","v":""},{"$f":"氏名・生年月日・入卒!$F45&\"\"","v":""},{"$f":"氏名・生年月日・入卒!$G45&\"\"","v":""},{"$f":"氏名・生年月日・入卒!$H45&\"\"","v":""}]
[41,{"$f":"IF(G45=\"\",\"\",中学校名!$D$10)","v":""},{"$f":"氏名・生年月日・入卒!B46&\"\"","v":""},{"$f":"氏名・生年月日・入卒!$S46&\"\"","v":""},{"$f":"氏名・生年月日・入卒!$D46&\"\"","v":""},{"$f":"氏名・生年月日・入卒!$E46&\"\"","v":""},{"$f":"氏名・生年月日・入卒!$J46","v":""},{"$f":"氏名・生年月日・入卒!$F46&\"\"","v":""},{"$f":"氏名・生年月日・入卒!$G46&\"\"","v":""},{"$f":"氏名・生年月日・入卒!$H46&\"\"","v":""}]
[42,{"$f":"IF(G46=\"\",\"\",中学校名!$D$10)","v":""},{"$f":"氏名・生年月日・入卒!B47&\"\"","v":""},{"$f":"氏名・生年月日・入卒!$S47&\"\"","v":""},{"$f":"氏名・生年月日・入卒!$D47&\"\"","v":""},{"$f":"氏名・生年月日・入卒!$E47&\"\"","v":""},{"$f":"氏名・生年月日・入卒!$J47","v":""},{"$f":"氏名・生年月日・入卒!$F47&\"\"","v":""},{"$f":"氏名・生年月日・入卒!$G47&\"\"","v":""},{"$f":"氏名・生年月日・入卒!$H47&\"\"","v":""}]
[43,{"$f":"IF(G47=\"\",\"\",中学校名!$D$10)","v":""},{"$f":"氏名・生年月日・入卒!B48&\"\"","v":""},{"$f":"氏名・生年月日・入卒!$S48&\"\"","v":""},{"$f":"氏名・生年月日・入卒!$D48&\"\"","v":""},{"$f":"氏名・生年月日・入卒!$E48&\"\"","v":""},{"$f":"氏名・生年月日・入卒!$J48","v":""},{"$f":"氏名・生年月日・入卒!$F48&\"\"","v":""},{"$f":"氏名・生年月日・入卒!$G48&\"\"","v":""},{"$f":"氏名・生年月日・入卒!$H48&\"\"","v":""}]
[44,{"$f":"IF(G48=\"\",\"\",中学校名!$D$10)","v":""},{"$f":"氏名・生年月日・入卒!B49&\"\"","v":""},{"$f":"氏名・生年月日・入卒!$S49&\"\"","v":""},{"$f":"氏名・生年月日・入卒!$D49&\"\"","v":""},{"$f":"氏名・生年月日・入卒!$E49&\"\"","v":""},{"$f":"氏名・生年月日・入卒!$J49","v":""},{"$f":"氏名・生年月日・入卒!$F49&\"\"","v":""},{"$f":"氏名・生年月日・入卒!$G49&\"\"","v":""},{"$f":"氏名・生年月日・入卒!$H49&\"\"","v":""}]
[45,{"$f":"IF(G49=\"\",\"\",中学校名!$D$10)","v":""},{"$f":"氏名・生年月日・入卒!B50&\"\"","v":""},{"$f":"氏名・生年月日・入卒!$S50&\"\"","v":""},{"$f":"氏名・生年月日・入卒!$D50&\"\"","v":""},{"$f":"氏名・生年月日・入卒!$E50&\"\"","v":""},{"$f":"氏名・生年月日・入卒!$J50","v":""},{"$f":"氏名・生年月日・入卒!$F50&\"\"","v":""},{"$f":"氏名・生年月日・入卒!$G50&\"\"","v":""},{"$f":"氏名・生年月日・入卒!$H50&\"\"","v":""}]
[46,{"$f":"IF(G50=\"\",\"\",中学校名!$D$10)","v":""},{"$f":"氏名・生年月日・入卒!B51&\"\"","v":""},{"$f":"氏名・生年月日・入卒!$S51&\"\"","v":""},{"$f":"氏名・生年月日・入卒!$D51&\"\"","v":""},{"$f":"氏名・生年月日・入卒!$E51&\"\"","v":""},{"$f":"氏名・生年月日・入卒!$J51","v":""},{"$f":"氏名・生年月日・入卒!$F51&\"\"","v":""},{"$f":"氏名・生年月日・入卒!$G51&\"\"","v":""},{"$f":"氏名・生年月日・入卒!$H51&\"\"","v":""}]
[47,{"$f":"IF(G51=\"\",\"\",中学校名!$D$10)","v":""},{"$f":"氏名・生年月日・入卒!B52&\"\"","v":""},{"$f":"氏名・生年月日・入卒!$S52&\"\"","v":""},{"$f":"氏名・生年月日・入卒!$D52&\"\"","v":""},{"$f":"氏名・生年月日・入卒!$E52&\"\"","v":""},{"$f":"氏名・生年月日・入卒!$J52","v":""},{"$f":"氏名・生年月日・入卒!$F52&\"\"","v":""},{"$f":"氏名・生年月日・入卒!$G52&\"\"","v":""},{"$f":"氏名・生年月日・入卒!$H52&\"\"","v":""}]
[48,{"$f":"IF(G52=\"\",\"\",中学校名!$D$10)","v":""},{"$f":"氏名・生年月日・入卒!B53&\"\"","v":""},{"$f":"氏名・生年月日・入卒!$S53&\"\"","v":""},{"$f":"氏名・生年月日・入卒!$D53&\"\"","v":""},{"$f":"氏名・生年月日・入卒!$E53&\"\"","v":""},{"$f":"氏名・生年月日・入卒!$J53","v":""},{"$f":"氏名・生年月日・入卒!$F53&\"\"","v":""},{"$f":"氏名・生年月日・入卒!$G53&\"\"","v":""},{"$f":"氏名・生年月日・入卒!$H53&\"\"","v":""}]
[49,{"$f":"IF(G53=\"\",\"\",中学校名!$D$10)","v":""},{"$f":"氏名・生年月日・入卒!B54&\"\"","v":""},{"$f":"氏名・生年月日・入卒!$S54&\"\"","v":""},{"$f":"氏名・生年月日・入卒!$D54&\"\"","v":""},{"$f":"氏名・生年月日・入卒!$E54&\"\"","v":""},{"$f":"氏名・生年月日・入卒!$J54","v":""},{"$f":"氏名・生年月日・入卒!$F54&\"\"","v":""},{"$f":"氏名・生年月日・入卒!$G54&\"\"","v":""},{"$f":"氏名・生年月日・入卒!$H54&\"\"","v":""}]
[50,{"$f":"IF(G54=\"\",\"\",中学校名!$D$10)","v":""},{"$f":"氏名・生年月日・入卒!B55&\"\"","v":""},{"$f":"氏名・生年月日・入卒!$S55&\"\"","v":""},{"$f":"氏名・生年月日・入卒!$D55&\"\"","v":""},{"$f":"氏名・生年月日・入卒!$E55&\"\"","v":""},{"$f":"氏名・生年月日・入卒!$J55","v":""},{"$f":"氏名・生年月日・入卒!$F55&\"\"","v":""},{"$f":"氏名・生年月日・入卒!$G55&\"\"","v":""},{"$f":"氏名・生年月日・入卒!$H55&\"\"","v":""}]
[51,{"$f":"IF(G55=\"\",\"\",中学校名!$D$10)","v":""},{"$f":"氏名・生年月日・入卒!B56&\"\"","v":""},{"$f":"氏名・生年月日・入卒!$S56&\"\"","v":""},{"$f":"氏名・生年月日・入卒!$D56&\"\"","v":""},{"$f":"氏名・生年月日・入卒!$E56&\"\"","v":""},{"$f":"氏名・生年月日・入卒!$J56","v":""},{"$f":"氏名・生年月日・入卒!$F56&\"\"","v":""},{"$f":"氏名・生年月日・入卒!$G56&\"\"","v":""},{"$f":"氏名・生年月日・入卒!$H56&\"\"","v":""}]
[52,{"$f":"IF(G56=\"\",\"\",中学校名!$D$10)","v":""},{"$f":"氏名・生年月日・入卒!B57&\"\"","v":""},{"$f":"氏名・生年月日・入卒!$S57&\"\"","v":""},{"$f":"氏名・生年月日・入卒!$D57&\"\"","v":""},{"$f":"氏名・生年月日・入卒!$E57&\"\"","v":""},{"$f":"氏名・生年月日・入卒!$J57","v":""},{"$f":"氏名・生年月日・入卒!$F57&\"\"","v":""},{"$f":"氏名・生年月日・入卒!$G57&\"\"","v":""},{"$f":"氏名・生年月日・入卒!$H57&\"\"","v":""}]
[53,{"$f":"IF(G57=\"\",\"\",中学校名!$D$10)","v":""},{"$f":"氏名・生年月日・入卒!B58&\"\"","v":""},{"$f":"氏名・生年月日・入卒!$S58&\"\"","v":""},{"$f":"氏名・生年月日・入卒!$D58&\"\"","v":""},{"$f":"氏名・生年月日・入卒!$E58&\"\"","v":""},{"$f":"氏名・生年月日・入卒!$J58","v":""},{"$f":"氏名・生年月日・入卒!$F58&\"\"","v":""},{"$f":"氏名・生年月日・入卒!$G58&\"\"","v":""},{"$f":"氏名・生年月日・入卒!$H58&\"\"","v":""}]
[54,{"$f":"IF(G58=\"\",\"\",中学校名!$D$10)","v":""},{"$f":"氏名・生年月日・入卒!B59&\"\"","v":""},{"$f":"氏名・生年月日・入卒!$S59&\"\"","v":""},{"$f":"氏名・生年月日・入卒!$D59&\"\"","v":""},{"$f":"氏名・生年月日・入卒!$E59&\"\"","v":""},{"$f":"氏名・生年月日・入卒!$J59","v":""},{"$f":"氏名・生年月日・入卒!$F59&\"\"","v":""},{"$f":"氏名・生年月日・入卒!$G59&\"\"","v":""},{"$f":"氏名・生年月日・入卒!$H59&\"\"","v":""}]
[55,{"$f":"IF(G59=\"\",\"\",中学校名!$D$10)","v":""},{"$f":"氏名・生年月日・入卒!B60&\"\"","v":""},{"$f":"氏名・生年月日・入卒!$S60&\"\"","v":""},{"$f":"氏名・生年月日・入卒!$D60&\"\"","v":""},{"$f":"氏名・生年月日・入卒!$E60&\"\"","v":""},{"$f":"氏名・生年月日・入卒!$J60","v":""},{"$f":"氏名・生年月日・入卒!$F60&\"\"","v":""},{"$f":"氏名・生年月日・入卒!$G60&\"\"","v":""},{"$f":"氏名・生年月日・入卒!$H60&\"\"","v":""}]
[56,{"$f":"IF(G60=\"\",\"\",中学校名!$D$10)","v":""},{"$f":"氏名・生年月日・入卒!B61&\"\"","v":""},{"$f":"氏名・生年月日・入卒!$S61&\"\"","v":""},{"$f":"氏名・生年月日・入卒!$D61&\"\"","v":""},{"$f":"氏名・生年月日・入卒!$E61&\"\"","v":""},{"$f":"氏名・生年月日・入卒!$J61","v":""},{"$f":"氏名・生年月日・入卒!$F61&\"\"","v":""},{"$f":"氏名・生年月日・入卒!$G61&\"\"","v":""},{"$f":"氏名・生年月日・入卒!$H61&\"\"","v":""}]
[57,{"$f":"IF(G61=\"\",\"\",中学校名!$D$10)","v":""},{"$f":"氏名・生年月日・入卒!B62&\"\"","v":""},{"$f":"氏名・生年月日・入卒!$S62&\"\"","v":""},{"$f":"氏名・生年月日・入卒!$D62&\"\"","v":""},{"$f":"氏名・生年月日・入卒!$E62&\"\"","v":""},{"$f":"氏名・生年月日・入卒!$J62","v":""},{"$f":"氏名・生年月日・入卒!$F62&\"\"","v":""},{"$f":"氏名・生年月日・入卒!$G62&\"\"","v":""},{"$f":"氏名・生年月日・入卒!$H62&\"\"","v":""}]
[58,{"$f":"IF(G62=\"\",\"\",中学校名!$D$10)","v":""},{"$f":"氏名・生年月日・入卒!B63&\"\"","v":""},{"$f":"氏名・生年月日・入卒!$S63&\"\"","v":""},{"$f":"氏名・生年月日・入卒!$D63&\"\"","v":""},{"$f":"氏名・生年月日・入卒!$E63&\"\"","v":""},{"$f":"氏名・生年月日・入卒!$J63","v":""},{"$f":"氏名・生年月日・入卒!$F63&\"\"","v":""},{"$f":"氏名・生年月日・入卒!$G63&\"\"","v":""},{"$f":"氏名・生年月日・入卒!$H63&\"\"","v":""}]
[59,{"$f":"IF(G63=\"\",\"\",中学校名!$D$10)","v":""},{"$f":"氏名・生年月日・入卒!B64&\"\"","v":""},{"$f":"氏名・生年月日・入卒!$S64&\"\"","v":""},{"$f":"氏名・生年月日・入卒!$D64&\"\"","v":""},{"$f":"氏名・生年月日・入卒!$E64&\"\"","v":""},{"$f":"氏名・生年月日・入卒!$J64","v":""},{"$f":"氏名・生年月日・入卒!$F64&\"\"","v":""},{"$f":"氏名・生年月日・入卒!$G64&\"\"","v":""},{"$f":"氏名・生年月日・入卒!$H64&\"\"","v":""}]
[60,{"$f":"IF(G64=\"\",\"\",中学校名!$D$10)","v":""},{"$f":"氏名・生年月日・入卒!B65&\"\"","v":""},{"$f":"氏名・生年月日・入卒!$S65&\"\"","v":""},{"$f":"氏名・生年月日・入卒!$D65&\"\"","v":""},{"$f":"氏名・生年月日・入卒!$E65&\"\"","v":""},{"$f":"氏名・生年月日・入卒!$J65","v":""},{"$f":"氏名・生年月日・入卒!$F65&\"\"","v":""},{"$f":"氏名・生年月日・入卒!$G65&\"\"","v":""},{"$f":"氏名・生年月日・入卒!$H65&\"\"","v":""}]
[61,{"$f":"IF(G65=\"\",\"\",中学校名!$D$10)","v":""},{"$f":"氏名・生年月日・入卒!B66&\"\"","v":""},{"$f":"氏名・生年月日・入卒!$S66&\"\"","v":""},{"$f":"氏名・生年月日・入卒!$D66&\"\"","v":""},{"$f":"氏名・生年月日・入卒!$E66&\"\"","v":""},{"$f":"氏名・生年月日・入卒!$J66","v":""},{"$f":"氏名・生年月日・入卒!$F66&\"\"","v":""},{"$f":"氏名・生年月日・入卒!$G66&\"\"","v":""},{"$f":"氏名・生年月日・入卒!$H66&\"\"","v":""}]
[62,{"$f":"IF(G66=\"\",\"\",中学校名!$D$10)","v":""},{"$f":"氏名・生年月日・入卒!B67&\"\"","v":""},{"$f":"氏名・生年月日・入卒!$S67&\"\"","v":""},{"$f":"氏名・生年月日・入卒!$D67&\"\"","v":""},{"$f":"氏名・生年月日・入卒!$E67&\"\"","v":""},{"$f":"氏名・生年月日・入卒!$J67","v":""},{"$f":"氏名・生年月日・入卒!$F67&\"\"","v":""},{"$f":"氏名・生年月日・入卒!$G67&\"\"","v":""},{"$f":"氏名・生年月日・入卒!$H67&\"\"","v":""}]
[63,{"$f":"IF(G67=\"\",\"\",中学校名!$D$10)","v":""},{"$f":"氏名・生年月日・入卒!B68&\"\"","v":""},{"$f":"氏名・生年月日・入卒!$S68&\"\"","v":""},{"$f":"氏名・生年月日・入卒!$D68&\"\"","v":""},{"$f":"氏名・生年月日・入卒!$E68&\"\"","v":""},{"$f":"氏名・生年月日・入卒!$J68","v":""},{"$f":"氏名・生年月日・入卒!$F68&\"\"","v":""},{"$f":"氏名・生年月日・入卒!$G68&\"\"","v":""},{"$f":"氏名・生年月日・入卒!$H68&\"\"","v":""}]
[64,{"$f":"IF(G68=\"\",\"\",中学校名!$D$10)","v":""},{"$f":"氏名・生年月日・入卒!B69&\"\"","v":""},{"$f":"氏名・生年月日・入卒!$S69&\"\"","v":""},{"$f":"氏名・生年月日・入卒!$D69&\"\"","v":""},{"$f":"氏名・生年月日・入卒!$E69&\"\"","v":""},{"$f":"氏名・生年月日・入卒!$J69","v":""},{"$f":"氏名・生年月日・入卒!$F69&\"\"","v":""},{"$f":"氏名・生年月日・入卒!$G69&\"\"","v":""},{"$f":"氏名・生年月日・入卒!$H69&\"\"","v":""}]
[65,{"$f":"IF(G69=\"\",\"\",中学校名!$D$10)","v":""},{"$f":"氏名・生年月日・入卒!B70&\"\"","v":""},{"$f":"氏名・生年月日・入卒!$S70&\"\"","v":""},{"$f":"氏名・生年月日・入卒!$D70&\"\"","v":""},{"$f":"氏名・生年月日・入卒!$E70&\"\"","v":""},{"$f":"氏名・生年月日・入卒!$J70","v":""},{"$f":"氏名・生年月日・入卒!$F70&\"\"","v":""},{"$f":"氏名・生年月日・入卒!$G70&\"\"","v":""},{"$f":"氏名・生年月日・入卒!$H70&\"\"","v":""}]
[66,{"$f":"IF(G70=\"\",\"\",中学校名!$D$10)","v":""},{"$f":"氏名・生年月日・入卒!B71&\"\"","v":""},{"$f":"氏名・生年月日・入卒!$S71&\"\"","v":""},{"$f":"氏名・生年月日・入卒!$D71&\"\"","v":""},{"$f":"氏名・生年月日・入卒!$E71&\"\"","v":""},{"$f":"氏名・生年月日・入卒!$J71","v":""},{"$f":"氏名・生年月日・入卒!$F71&\"\"","v":""},{"$f":"氏名・生年月日・入卒!$G71&\"\"","v":""},{"$f":"氏名・生年月日・入卒!$H71&\"\"","v":""}]
[67,{"$f":"IF(G71=\"\",\"\",中学校名!$D$10)","v":""},{"$f":"氏名・生年月日・入卒!B72&\"\"","v":""},{"$f":"氏名・生年月日・入卒!$S72&\"\"","v":""},{"$f":"氏名・生年月日・入卒!$D72&\"\"","v":""},{"$f":"氏名・生年月日・入卒!$E72&\"\"","v":""},{"$f":"氏名・生年月日・入卒!$J72","v":""},{"$f":"氏名・生年月日・入卒!$F72&\"\"","v":""},{"$f":"氏名・生年月日・入卒!$G72&\"\"","v":""},{"$f":"氏名・生年月日・入卒!$H72&\"\"","v":""}]
[68,{"$f":"IF(G72=\"\",\"\",中学校名!$D$10)","v":""},{"$f":"氏名・生年月日・入卒!B73&\"\"","v":""},{"$f":"氏名・生年月日・入卒!$S73&\"\"","v":""},{"$f":"氏名・生年月日・入卒!$D73&\"\"","v":""},{"$f":"氏名・生年月日・入卒!$E73&\"\"","v":""},{"$f":"氏名・生年月日・入卒!$J73","v":""},{"$f":"氏名・生年月日・入卒!$F73&\"\"","v":""},{"$f":"氏名・生年月日・入卒!$G73&\"\"","v":""},{"$f":"氏名・生年月日・入卒!$H73&\"\"","v":""}]
[69,{"$f":"IF(G73=\"\",\"\",中学校名!$D$10)","v":""},{"$f":"氏名・生年月日・入卒!B74&\"\"","v":""},{"$f":"氏名・生年月日・入卒!$S74&\"\"","v":""},{"$f":"氏名・生年月日・入卒!$D74&\"\"","v":""},{"$f":"氏名・生年月日・入卒!$E74&\"\"","v":""},{"$f":"氏名・生年月日・入卒!$J74","v":""},{"$f":"氏名・生年月日・入卒!$F74&\"\"","v":""},{"$f":"氏名・生年月日・入卒!$G74&\"\"","v":""},{"$f":"氏名・生年月日・入卒!$H74&\"\"","v":""}]
[70,{"$f":"IF(G74=\"\",\"\",中学校名!$D$10)","v":""},{"$f":"氏名・生年月日・入卒!B75&\"\"","v":""},{"$f":"氏名・生年月日・入卒!$S75&\"\"","v":""},{"$f":"氏名・生年月日・入卒!$D75&\"\"","v":""},{"$f":"氏名・生年月日・入卒!$E75&\"\"","v":""},{"$f":"氏名・生年月日・入卒!$J75","v":""},{"$f":"氏名・生年月日・入卒!$F75&\"\"","v":""},{"$f":"氏名・生年月日・入卒!$G75&\"\"","v":""},{"$f":"氏名・生年月日・入卒!$H75&\"\"","v":""}]
[71,{"$f":"IF(G75=\"\",\"\",中学校名!$D$10)","v":""},{"$f":"氏名・生年月日・入卒!B76&\"\"","v":""},{"$f":"氏名・生年月日・入卒!$S76&\"\"","v":""},{"$f":"氏名・生年月日・入卒!$D76&\"\"","v":""},{"$f":"氏名・生年月日・入卒!$E76&\"\"","v":""},{"$f":"氏名・生年月日・入卒!$J76","v":""},{"$f":"氏名・生年月日・入卒!$F76&\"\"","v":""},{"$f":"氏名・生年月日・入卒!$G76&\"\"","v":""},{"$f":"氏名・生年月日・入卒!$H76&\"\"","v":""}]
[72,{"$f":"IF(G76=\"\",\"\",中学校名!$D$10)","v":""},{"$f":"氏名・生年月日・入卒!B77&\"\"","v":""},{"$f":"氏名・生年月日・入卒!$S77&\"\"","v":""},{"$f":"氏名・生年月日・入卒!$D77&\"\"","v":""},{"$f":"氏名・生年月日・入卒!$E77&\"\"","v":""},{"$f":"氏名・生年月日・入卒!$J77","v":""},{"$f":"氏名・生年月日・入卒!$F77&\"\"","v":""},{"$f":"氏名・生年月日・入卒!$G77&\"\"","v":""},{"$f":"氏名・生年月日・入卒!$H77&\"\"","v":""}]
[73,{"$f":"IF(G77=\"\",\"\",中学校名!$D$10)","v":""},{"$f":"氏名・生年月日・入卒!B78&\"\"","v":""},{"$f":"氏名・生年月日・入卒!$S78&\"\"","v":""},{"$f":"氏名・生年月日・入卒!$D78&\"\"","v":""},{"$f":"氏名・生年月日・入卒!$E78&\"\"","v":""},{"$f":"氏名・生年月日・入卒!$J78","v":""},{"$f":"氏名・生年月日・入卒!$F78&\"\"","v":""},{"$f":"氏名・生年月日・入卒!$G78&\"\"","v":""},{"$f":"氏名・生年月日・入卒!$H78&\"\"","v":""}]
[74,{"$f":"IF(G78=\"\",\"\",中学校名!$D$10)","v":""},{"$f":"氏名・生年月日・入卒!B79&\"\"","v":""},{"$f":"氏名・生年月日・入卒!$S79&\"\"","v":""},{"$f":"氏名・生年月日・入卒!$D79&\"\"","v":""},{"$f":"氏名・生年月日・入卒!$E79&\"\"","v":""},{"$f":"氏名・生年月日・入卒!$J79","v":""},{"$f":"氏名・生年月日・入卒!$F79&\"\"","v":""},{"$f":"氏名・生年月日・入卒!$G79&\"\"","v":""},{"$f":"氏名・生年月日・入卒!$H79&\"\"","v":""}]
[75,{"$f":"IF(G79=\"\",\"\",中学校名!$D$10)","v":""},{"$f":"氏名・生年月日・入卒!B80&\"\"","v":""},{"$f":"氏名・生年月日・入卒!$S80&\"\"","v":""},{"$f":"氏名・生年月日・入卒!$D80&\"\"","v":""},{"$f":"氏名・生年月日・入卒!$E80&\"\"","v":""},{"$f":"氏名・生年月日・入卒!$J80","v":""},{"$f":"氏名・生年月日・入卒!$F80&\"\"","v":""},{"$f":"氏名・生年月日・入卒!$G80&\"\"","v":""},{"$f":"氏名・生年月日・入卒!$H80&\"\"","v":""}]
[76,{"$f":"IF(G80=\"\",\"\",中学校名!$D$10)","v":""},{"$f":"氏名・生年月日・入卒!B81&\"\"","v":""},{"$f":"氏名・生年月日・入卒!$S81&\"\"","v":""},{"$f":"氏名・生年月日・入卒!$D81&\"\"","v":""},{"$f":"氏名・生年月日・入卒!$E81&\"\"","v":""},{"$f":"氏名・生年月日・入卒!$J81","v":""},{"$f":"氏名・生年月日・入卒!$F81&\"\"","v":""},{"$f":"氏名・生年月日・入卒!$G81&\"\"","v":""},{"$f":"氏名・生年月日・入卒!$H81&\"\"","v":""}]
[77,{"$f":"IF(G81=\"\",\"\",中学校名!$D$10)","v":""},{"$f":"氏名・生年月日・入卒!B82&\"\"","v":""},{"$f":"氏名・生年月日・入卒!$S82&\"\"","v":""},{"$f":"氏名・生年月日・入卒!$D82&\"\"","v":""},{"$f":"氏名・生年月日・入卒!$E82&\"\"","v":""},{"$f":"氏名・生年月日・入卒!$J82","v":""},{"$f":"氏名・生年月日・入卒!$F82&\"\"","v":""},{"$f":"氏名・生年月日・入卒!$G82&\"\"","v":""},{"$f":"氏名・生年月日・入卒!$H82&\"\"","v":""}]
[78,{"$f":"IF(G82=\"\",\"\",中学校名!$D$10)","v":""},{"$f":"氏名・生年月日・入卒!B83&\"\"","v":""},{"$f":"氏名・生年月日・入卒!$S83&\"\"","v":""},{"$f":"氏名・生年月日・入卒!$D83&\"\"","v":""},{"$f":"氏名・生年月日・入卒!$E83&\"\"","v":""},{"$f":"氏名・生年月日・入卒!$J83","v":""},{"$f":"氏名・生年月日・入卒!$F83&\"\"","v":""},{"$f":"氏名・生年月日・入卒!$G83&\"\"","v":""},{"$f":"氏名・生年月日・入卒!$H83&\"\"","v":""}]
[79,{"$f":"IF(G83=\"\",\"\",中学校名!$D$10)","v":""},{"$f":"氏名・生年月日・入卒!B84&\"\"","v":""},{"$f":"氏名・生年月日・入卒!$S84&\"\"","v":""},{"$f":"氏名・生年月日・入卒!$D84&\"\"","v":""},{"$f":"氏名・生年月日・入卒!$E84&\"\"","v":""},{"$f":"氏名・生年月日・入卒!$J84","v":""},{"$f":"氏名・生年月日・入卒!$F84&\"\"","v":""},{"$f":"氏名・生年月日・入卒!$G84&\"\"","v":""},{"$f":"氏名・生年月日・入卒!$H84&\"\"","v":""}]
[80,{"$f":"IF(G84=\"\",\"\",中学校名!$D$10)","v":""},{"$f":"氏名・生年月日・入卒!B85&\"\"","v":""},{"$f":"氏名・生年月日・入卒!$S85&\"\"","v":""},{"$f":"氏名・生年月日・入卒!$D85&\"\"","v":""},{"$f":"氏名・生年月日・入卒!$E85&\"\"","v":""},{"$f":"氏名・生年月日・入卒!$J85","v":""},{"$f":"氏名・生年月日・入卒!$F85&\"\"","v":""},{"$f":"氏名・生年月日・入卒!$G85&\"\"","v":""},{"$f":"氏名・生年月日・入卒!$H85&\"\"","v":""}]
[81,{"$f":"IF(G85=\"\",\"\",中学校名!$D$10)","v":""},{"$f":"氏名・生年月日・入卒!B86&\"\"","v":""},{"$f":"氏名・生年月日・入卒!$S86&\"\"","v":""},{"$f":"氏名・生年月日・入卒!$D86&\"\"","v":""},{"$f":"氏名・生年月日・入卒!$E86&\"\"","v":""},{"$f":"氏名・生年月日・入卒!$J86","v":""},{"$f":"氏名・生年月日・入卒!$F86&\"\"","v":""},{"$f":"氏名・生年月日・入卒!$G86&\"\"","v":""},{"$f":"氏名・生年月日・入卒!$H86&\"\"","v":""}]
[82,{"$f":"IF(G86=\"\",\"\",中学校名!$D$10)","v":""},{"$f":"氏名・生年月日・入卒!B87&\"\"","v":""},{"$f":"氏名・生年月日・入卒!$S87&\"\"","v":""},{"$f":"氏名・生年月日・入卒!$D87&\"\"","v":""},{"$f":"氏名・生年月日・入卒!$E87&\"\"","v":""},{"$f":"氏名・生年月日・入卒!$J87","v":""},{"$f":"氏名・生年月日・入卒!$F87&\"\"","v":""},{"$f":"氏名・生年月日・入卒!$G87&\"\"","v":""},{"$f":"氏名・生年月日・入卒!$H87&\"\"","v":""}]
[83,{"$f":"IF(G87=\"\",\"\",中学校名!$D$10)","v":""},{"$f":"氏名・生年月日・入卒!B88&\"\"","v":""},{"$f":"氏名・生年月日・入卒!$S88&\"\"","v":""},{"$f":"氏名・生年月日・入卒!$D88&\"\"","v":""},{"$f":"氏名・生年月日・入卒!$E88&\"\"","v":""},{"$f":"氏名・生年月日・入卒!$J88","v":""},{"$f":"氏名・生年月日・入卒!$F88&\"\"","v":""},{"$f":"氏名・生年月日・入卒!$G88&\"\"","v":""},{"$f":"氏名・生年月日・入卒!$H88&\"\"","v":""}]
[84,{"$f":"IF(G88=\"\",\"\",中学校名!$D$10)","v":""},{"$f":"氏名・生年月日・入卒!B89&\"\"","v":""},{"$f":"氏名・生年月日・入卒!$S89&\"\"","v":""},{"$f":"氏名・生年月日・入卒!$D89&\"\"","v":""},{"$f":"氏名・生年月日・入卒!$E89&\"\"","v":""},{"$f":"氏名・生年月日・入卒!$J89","v":""},{"$f":"氏名・生年月日・入卒!$F89&\"\"","v":""},{"$f":"氏名・生年月日・入卒!$G89&\"\"","v":""},{"$f":"氏名・生年月日・入卒!$H89&\"\"","v":""}]
[85,{"$f":"IF(G89=\"\",\"\",中学校名!$D$10)","v":""},{"$f":"氏名・生年月日・入卒!B90&\"\"","v":""},{"$f":"氏名・生年月日・入卒!$S90&\"\"","v":""},{"$f":"氏名・生年月日・入卒!$D90&\"\"","v":""},{"$f":"氏名・生年月日・入卒!$E90&\"\"","v":""},{"$f":"氏名・生年月日・入卒!$J90","v":""},{"$f":"氏名・生年月日・入卒!$F90&\"\"","v":""},{"$f":"氏名・生年月日・入卒!$G90&\"\"","v":""},{"$f":"氏名・生年月日・入卒!$H90&\"\"","v":""}]
[86,{"$f":"IF(G90=\"\",\"\",中学校名!$D$10)","v":""},{"$f":"氏名・生年月日・入卒!B91&\"\"","v":""},{"$f":"氏名・生年月日・入卒!$S91&\"\"","v":""},{"$f":"氏名・生年月日・入卒!$D91&\"\"","v":""},{"$f":"氏名・生年月日・入卒!$E91&\"\"","v":""},{"$f":"氏名・生年月日・入卒!$J91","v":""},{"$f":"氏名・生年月日・入卒!$F91&\"\"","v":""},{"$f":"氏名・生年月日・入卒!$G91&\"\"","v":""},{"$f":"氏名・生年月日・入卒!$H91&\"\"","v":""}]
[87,{"$f":"IF(G91=\"\",\"\",中学校名!$D$10)","v":""},{"$f":"氏名・生年月日・入卒!B92&\"\"","v":""},{"$f":"氏名・生年月日・入卒!$S92&\"\"","v":""},{"$f":"氏名・生年月日・入卒!$D92&\"\"","v":""},{"$f":"氏名・生年月日・入卒!$E92&\"\"","v":""},{"$f":"氏名・生年月日・入卒!$J92","v":""},{"$f":"氏名・生年月日・入卒!$F92&\"\"","v":""},{"$f":"氏名・生年月日・入卒!$G92&\"\"","v":""},{"$f":"氏名・生年月日・入卒!$H92&\"\"","v":""}]
[88,{"$f":"IF(G92=\"\",\"\",中学校名!$D$10)","v":""},{"$f":"氏名・生年月日・入卒!B93&\"\"","v":""},{"$f":"氏名・生年月日・入卒!$S93&\"\"","v":""},{"$f":"氏名・生年月日・入卒!$D93&\"\"","v":""},{"$f":"氏名・生年月日・入卒!$E93&\"\"","v":""},{"$f":"氏名・生年月日・入卒!$J93","v":""},{"$f":"氏名・生年月日・入卒!$F93&\"\"","v":""},{"$f":"氏名・生年月日・入卒!$G93&\"\"","v":""},{"$f":"氏名・生年月日・入卒!$H93&\"\"","v":""}]
[89,{"$f":"IF(G93=\"\",\"\",中学校名!$D$10)","v":""},{"$f":"氏名・生年月日・入卒!B94&\"\"","v":""},{"$f":"氏名・生年月日・入卒!$S94&\"\"","v":""},{"$f":"氏名・生年月日・入卒!$D94&\"\"","v":""},{"$f":"氏名・生年月日・入卒!$E94&\"\"","v":""},{"$f":"氏名・生年月日・入卒!$J94","v":""},{"$f":"氏名・生年月日・入卒!$F94&\"\"","v":""},{"$f":"氏名・生年月日・入卒!$G94&\"\"","v":""},{"$f":"氏名・生年月日・入卒!$H94&\"\"","v":""}]
[90,{"$f":"IF(G94=\"\",\"\",中学校名!$D$10)","v":""},{"$f":"氏名・生年月日・入卒!B95&\"\"","v":""},{"$f":"氏名・生年月日・入卒!$S95&\"\"","v":""},{"$f":"氏名・生年月日・入卒!$D95&\"\"","v":""},{"$f":"氏名・生年月日・入卒!$E95&\"\"","v":""},{"$f":"氏名・生年月日・入卒!$J95","v":""},{"$f":"氏名・生年月日・入卒!$F95&\"\"","v":""},{"$f":"氏名・生年月日・入卒!$G95&\"\"","v":""},{"$f":"氏名・生年月日・入卒!$H95&\"\"","v":""}]
[91,{"$f":"IF(G95=\"\",\"\",中学校名!$D$10)","v":""},{"$f":"氏名・生年月日・入卒!B96&\"\"","v":""},{"$f":"氏名・生年月日・入卒!$S96&\"\"","v":""},{"$f":"氏名・生年月日・入卒!$D96&\"\"","v":""},{"$f":"氏名・生年月日・入卒!$E96&\"\"","v":""},{"$f":"氏名・生年月日・入卒!$J96","v":""},{"$f":"氏名・生年月日・入卒!$F96&\"\"","v":""},{"$f":"氏名・生年月日・入卒!$G96&\"\"","v":""},{"$f":"氏名・生年月日・入卒!$H96&\"\"","v":""}]
[92,{"$f":"IF(G96=\"\",\"\",中学校名!$D$10)","v":""},{"$f":"氏名・生年月日・入卒!B97&\"\"","v":""},{"$f":"氏名・生年月日・入卒!$S97&\"\"","v":""},{"$f":"氏名・生年月日・入卒!$D97&\"\"","v":""},{"$f":"氏名・生年月日・入卒!$E97&\"\"","v":""},{"$f":"氏名・生年月日・入卒!$J97","v":""},{"$f":"氏名・生年月日・入卒!$F97&\"\"","v":""},{"$f":"氏名・生年月日・入卒!$G97&\"\"","v":""},{"$f":"氏名・生年月日・入卒!$H97&\"\"","v":""}]
[93,{"$f":"IF(G97=\"\",\"\",中学校名!$D$10)","v":""},{"$f":"氏名・生年月日・入卒!B98&\"\"","v":""},{"$f":"氏名・生年月日・入卒!$S98&\"\"","v":""},{"$f":"氏名・生年月日・入卒!$D98&\"\"","v":""},{"$f":"氏名・生年月日・入卒!$E98&\"\"","v":""},{"$f":"氏名・生年月日・入卒!$J98","v":""},{"$f":"氏名・生年月日・入卒!$F98&\"\"","v":""},{"$f":"氏名・生年月日・入卒!$G98&\"\"","v":""},{"$f":"氏名・生年月日・入卒!$H98&\"\"","v":""}]
[94,{"$f":"IF(G98=\"\",\"\",中学校名!$D$10)","v":""},{"$f":"氏名・生年月日・入卒!B99&\"\"","v":""},{"$f":"氏名・生年月日・入卒!$S99&\"\"","v":""},{"$f":"氏名・生年月日・入卒!$D99&\"\"","v":""},{"$f":"氏名・生年月日・入卒!$E99&\"\"","v":""},{"$f":"氏名・生年月日・入卒!$J99","v":""},{"$f":"氏名・生年月日・入卒!$F99&\"\"","v":""},{"$f":"氏名・生年月日・入卒!$G99&\"\"","v":""},{"$f":"氏名・生年月日・入卒!$H99&\"\"","v":""}]
[95,{"$f":"IF(G99=\"\",\"\",中学校名!$D$10)","v":""},{"$f":"氏名・生年月日・入卒!B100&\"\"","v":""},{"$f":"氏名・生年月日・入卒!$S100&\"\"","v":""},{"$f":"氏名・生年月日・入卒!$D100&\"\"","v":""},{"$f":"氏名・生年月日・入卒!$E100&\"\"","v":""},{"$f":"氏名・生年月日・入卒!$J100","v":""},{"$f":"氏名・生年月日・入卒!$F100&\"\"","v":""},{"$f":"氏名・生年月日・入卒!$G100&\"\"","v":""},{"$f":"氏名・生年月日・入卒!$H100&\"\"","v":""}]
[96,{"$f":"IF(G100=\"\",\"\",中学校名!$D$10)","v":""},{"$f":"氏名・生年月日・入卒!B101&\"\"","v":""},{"$f":"氏名・生年月日・入卒!$S101&\"\"","v":""},{"$f":"氏名・生年月日・入卒!$D101&\"\"","v":""},{"$f":"氏名・生年月日・入卒!$E101&\"\"","v":""},{"$f":"氏名・生年月日・入卒!$J101","v":""},{"$f":"氏名・生年月日・入卒!$F101&\"\"","v":""},{"$f":"氏名・生年月日・入卒!$G101&\"\"","v":""},{"$f":"氏名・生年月日・入卒!$H101&\"\"","v":""}]
[97,{"$f":"IF(G101=\"\",\"\",中学校名!$D$10)","v":""},{"$f":"氏名・生年月日・入卒!B102&\"\"","v":""},{"$f":"氏名・生年月日・入卒!$S102&\"\"","v":""},{"$f":"氏名・生年月日・入卒!$D102&\"\"","v":""},{"$f":"氏名・生年月日・入卒!$E102&\"\"","v":""},{"$f":"氏名・生年月日・入卒!$J102","v":""},{"$f":"氏名・生年月日・入卒!$F102&\"\"","v":""},{"$f":"氏名・生年月日・入卒!$G102&\"\"","v":""},{"$f":"氏名・生年月日・入卒!$H102&\"\"","v":""}]
[98,{"$f":"IF(G102=\"\",\"\",中学校名!$D$10)","v":""},{"$f":"氏名・生年月日・入卒!B103&\"\"","v":""},{"$f":"氏名・生年月日・入卒!$S103&\"\"","v":""},{"$f":"氏名・生年月日・入卒!$D103&\"\"","v":""},{"$f":"氏名・生年月日・入卒!$E103&\"\"","v":""},{"$f":"氏名・生年月日・入卒!$J103","v":""},{"$f":"氏名・生年月日・入卒!$F103&\"\"","v":""},{"$f":"氏名・生年月日・入卒!$G103&\"\"","v":""},{"$f":"氏名・生年月日・入卒!$H103&\"\"","v":""}]
[99,{"$f":"IF(G103=\"\",\"\",中学校名!$D$10)","v":""},{"$f":"氏名・生年月日・入卒!B104&\"\"","v":""},{"$f":"氏名・生年月日・入卒!$S104&\"\"","v":""},{"$f":"氏名・生年月日・入卒!$D104&\"\"","v":""},{"$f":"氏名・生年月日・入卒!$E104&\"\"","v":""},{"$f":"氏名・生年月日・入卒!$J104","v":""},{"$f":"氏名・生年月日・入卒!$F104&\"\"","v":""},{"$f":"氏名・生年月日・入卒!$G104&\"\"","v":""},{"$f":"氏名・生年月日・入卒!$H104&\"\"","v":""}]
[100,{"$f":"IF(G104=\"\",\"\",中学校名!$D$10)","v":""},{"$f":"氏名・生年月日・入卒!B105&\"\"","v":""},{"$f":"氏名・生年月日・入卒!$S105&\"\"","v":""},{"$f":"氏名・生年月日・入卒!$D105&\"\"","v":""},{"$f":"氏名・生年月日・入卒!$E105&\"\"","v":""},{"$f":"氏名・生年月日・入卒!$J105","v":""},{"$f":"氏名・生年月日・入卒!$F105&\"\"","v":""},{"$f":"氏名・生年月日・入卒!$G105&\"\"","v":""},{"$f":"氏名・生年月日・入卒!$H105&\"\"","v":""}]